BEGIN:VCALENDAR
VERSION:2.0
PRODID:-// - ECPv6.15.20//NONSGML v1.0//EN
CALSCALE:GREGORIAN
METHOD:PUBLISH
X-ORIGINAL-URL:https://www.blauweboom.nl
X-WR-CALDESC:Evenementen voor 
REFRESH-INTERVAL;VALUE=DURATION:PT1H
X-Robots-Tag:noindex
X-PUBLISHED-TTL:PT1H
BEGIN:VTIMEZONE
TZID:UTC
BEGIN:STANDARD
TZOFFSETFROM:+0000
TZOFFSETTO:+0000
TZNAME:UTC
DTSTART:20250101T000000
END:STANDARD
END:VTIMEZONE
BEGIN:VEVENT
DTSTART;TZID=UTC:20260421T093000
DTEND;TZID=UTC:20260421T113000
DTSTAMP:20260421T102410
CREATED:20251222T212742Z
LAST-MODIFIED:20251222T212742Z
UID:7899-1776763800-1776771000@www.blauweboom.nl
SUMMARY:Samen gezond
DESCRIPTION:
URL:https://www.blauweboom.nl/event/samen-gezond-63/
END:VEVENT
BEGIN:VEVENT
DTSTART;TZID=UTC:20260421T200000
DTEND;TZID=UTC:20260421T213000
DTSTAMP:20260421T102410
CREATED:20260325T164237Z
LAST-MODIFIED:20260325T164237Z
UID:8221-1776801600-1776807000@www.blauweboom.nl
SUMMARY:HITT training
DESCRIPTION:
URL:https://www.blauweboom.nl/event/hitt-training-3/
END:VEVENT
END:VCALENDAR