BEGIN:VCALENDAR
VERSION:2.0
PRODID:-// - ECPv6.15.20//NONSGML v1.0//EN
CALSCALE:GREGORIAN
METHOD:PUBLISH
X-ORIGINAL-URL:https://www.blauweboom.nl
X-WR-CALDESC:Evenementen voor 
REFRESH-INTERVAL;VALUE=DURATION:PT1H
X-Robots-Tag:noindex
X-PUBLISHED-TTL:PT1H
BEGIN:VTIMEZONE
TZID:UTC
BEGIN:STANDARD
TZOFFSETFROM:+0000
TZOFFSETTO:+0000
TZNAME:UTC
DTSTART:20250101T000000
END:STANDARD
END:VTIMEZONE
BEGIN:VEVENT
DTSTART;TZID=UTC:20260424T140000
DTEND;TZID=UTC:20260424T150000
DTSTAMP:20260424T134514
CREATED:20250627T191700Z
LAST-MODIFIED:20250627T191700Z
UID:7257-1777039200-1777042800@www.blauweboom.nl
SUMMARY:Sport Vitaal
DESCRIPTION:
URL:https://www.blauweboom.nl/event/sport-vitaal-61/
END:VEVENT
BEGIN:VEVENT
DTSTART;TZID=UTC:20260424T160000
DTEND;TZID=UTC:20260424T180000
DTSTAMP:20260424T134514
CREATED:20251220T161113Z
LAST-MODIFIED:20251220T161113Z
UID:7818-1777046400-1777053600@www.blauweboom.nl
SUMMARY:Straatgeluid
DESCRIPTION:
URL:https://www.blauweboom.nl/event/straatgeluid-205/
END:VEVENT
BEGIN:VEVENT
DTSTART;TZID=UTC:20260428T093000
DTEND;TZID=UTC:20260428T113000
DTSTAMP:20260424T134514
CREATED:20251222T212812Z
LAST-MODIFIED:20251222T212812Z
UID:7901-1777368600-1777375800@www.blauweboom.nl
SUMMARY:Samen gezond
DESCRIPTION:
URL:https://www.blauweboom.nl/event/samen-gezond-64/
END:VEVENT
BEGIN:VEVENT
DTSTART;TZID=UTC:20260428T200000
DTEND;TZID=UTC:20260428T213000
DTSTAMP:20260424T134514
CREATED:20260325T164309Z
LAST-MODIFIED:20260325T164309Z
UID:8223-1777406400-1777411800@www.blauweboom.nl
SUMMARY:HITT training
DESCRIPTION:
URL:https://www.blauweboom.nl/event/hitt-training-4/
END:VEVENT
BEGIN:VEVENT
DTSTART;TZID=UTC:20260429T160000
DTEND;TZID=UTC:20260429T170000
DTSTAMP:20260424T134514
CREATED:20251222T214447Z
LAST-MODIFIED:20251222T214447Z
UID:7929-1777478400-1777482000@www.blauweboom.nl
SUMMARY:SP Hulpdienst
DESCRIPTION:
URL:https://www.blauweboom.nl/event/sp-hulpdienst-12/
END:VEVENT
BEGIN:VEVENT
DTSTART;TZID=UTC:20260429T190000
DTEND;TZID=UTC:20260429T220000
DTSTAMP:20260424T134514
CREATED:20251217T203820Z
LAST-MODIFIED:20251217T203820Z
UID:7698-1777489200-1777500000@www.blauweboom.nl
SUMMARY:Straatgeluid
DESCRIPTION:
URL:https://www.blauweboom.nl/event/straatgeluid-155/
END:VEVENT
BEGIN:VEVENT
DTSTART;TZID=UTC:20260430T190000
DTEND;TZID=UTC:20260430T220000
DTSTAMP:20260424T134514
CREATED:20251220T154253Z
LAST-MODIFIED:20251220T154253Z
UID:7761-1777575600-1777586400@www.blauweboom.nl
SUMMARY:Straatgeluid
DESCRIPTION:
URL:https://www.blauweboom.nl/event/straatgeluid-180/
END:VEVENT
END:VCALENDAR