BEGIN:VCALENDAR
VERSION:2.0
PRODID:-// - ECPv6.15.20//NONSGML v1.0//EN
CALSCALE:GREGORIAN
METHOD:PUBLISH
X-ORIGINAL-URL:https://www.blauweboom.nl
X-WR-CALDESC:Evenementen voor 
REFRESH-INTERVAL;VALUE=DURATION:PT1H
X-Robots-Tag:noindex
X-PUBLISHED-TTL:PT1H
BEGIN:VTIMEZONE
TZID:UTC
BEGIN:STANDARD
TZOFFSETFROM:+0000
TZOFFSETTO:+0000
TZNAME:UTC
DTSTART:20240101T000000
END:STANDARD
END:VTIMEZONE
BEGIN:VEVENT
DTSTART;TZID=UTC:20250501T190000
DTEND;TZID=UTC:20250501T220000
DTSTAMP:20260422T013820
CREATED:20241230T202353Z
LAST-MODIFIED:20241230T202353Z
UID:6700-1746126000-1746136800@www.blauweboom.nl
SUMMARY:Straatgeluid
DESCRIPTION:
URL:https://www.blauweboom.nl/event/straatgeluid-43/
END:VEVENT
BEGIN:VEVENT
DTSTART;TZID=UTC:20250502T151500
DTEND;TZID=UTC:20250502T171500
DTSTAMP:20260422T013820
CREATED:20241230T213202Z
LAST-MODIFIED:20241230T213202Z
UID:6804-1746198900-1746206100@www.blauweboom.nl
SUMMARY:Straatgeluid
DESCRIPTION:
URL:https://www.blauweboom.nl/event/straatgeluid-67/
END:VEVENT
BEGIN:VEVENT
DTSTART;TZID=UTC:20250503T140000
DTEND;TZID=UTC:20250503T170000
DTSTAMP:20260422T013820
CREATED:20250108T142314Z
LAST-MODIFIED:20250108T142314Z
UID:6870-1746280800-1746291600@www.blauweboom.nl
SUMMARY:Happy Kids Club
DESCRIPTION:
URL:https://www.blauweboom.nl/event/happy-kids-club-11/
END:VEVENT
BEGIN:VEVENT
DTSTART;TZID=UTC:20250503T180000
DTEND;TZID=UTC:20250503T230000
DTSTAMP:20260422T013820
CREATED:20250321T154400Z
LAST-MODIFIED:20250321T154400Z
UID:7033-1746295200-1746313200@www.blauweboom.nl
SUMMARY:Baby Shower N. Cinar
DESCRIPTION:
URL:https://www.blauweboom.nl/event/baby-shower-n-cinar/
END:VEVENT
BEGIN:VEVENT
DTSTART;TZID=UTC:20250504T140000
DTEND;TZID=UTC:20250504T170000
DTSTAMP:20260422T013820
CREATED:20250108T142352Z
LAST-MODIFIED:20250108T142352Z
UID:6872-1746367200-1746378000@www.blauweboom.nl
SUMMARY:Happy Kids Club
DESCRIPTION:
URL:https://www.blauweboom.nl/event/happy-kids-club-12/
END:VEVENT
BEGIN:VEVENT
DTSTART;TZID=UTC:20250506T093000
DTEND;TZID=UTC:20250506T113000
DTSTAMP:20260422T013820
CREATED:20241230T190700Z
LAST-MODIFIED:20241230T190700Z
UID:6536-1746523800-1746531000@www.blauweboom.nl
SUMMARY:Samen gezond
DESCRIPTION:
URL:https://www.blauweboom.nl/event/samen-gezond-33/
END:VEVENT
BEGIN:VEVENT
DTSTART;TZID=UTC:20250506T190000
DTEND;TZID=UTC:20250506T220000
DTSTAMP:20260422T013820
CREATED:20241230T193447Z
LAST-MODIFIED:20241230T193447Z
UID:6595-1746558000-1746568800@www.blauweboom.nl
SUMMARY:Straatgeluid
DESCRIPTION:
URL:https://www.blauweboom.nl/event/straatgeluid-15/
END:VEVENT
BEGIN:VEVENT
DTSTART;TZID=UTC:20250507T100000
DTEND;TZID=UTC:20250507T120000
DTSTAMP:20260422T013820
CREATED:20250110T215534Z
LAST-MODIFIED:20250110T215534Z
UID:6888-1746612000-1746619200@www.blauweboom.nl
SUMMARY:Creatief & Beppen
DESCRIPTION:
URL:https://www.blauweboom.nl/event/creatief-beppen-2/
END:VEVENT
BEGIN:VEVENT
DTSTART;TZID=UTC:20250507T193000
DTEND;TZID=UTC:20250507T210000
DTSTAMP:20260422T013820
CREATED:20241230T200201Z
LAST-MODIFIED:20241230T200201Z
UID:6649-1746646200-1746651600@www.blauweboom.nl
SUMMARY:Djembè
DESCRIPTION:
URL:https://www.blauweboom.nl/event/djembe-63/
END:VEVENT
BEGIN:VEVENT
DTSTART;TZID=UTC:20250508T190000
DTEND;TZID=UTC:20250508T220000
DTSTAMP:20260422T013820
CREATED:20241230T202430Z
LAST-MODIFIED:20241230T202430Z
UID:6702-1746730800-1746741600@www.blauweboom.nl
SUMMARY:Straatgeluid
DESCRIPTION:
URL:https://www.blauweboom.nl/event/straatgeluid-44/
END:VEVENT
BEGIN:VEVENT
DTSTART;TZID=UTC:20250509T140000
DTEND;TZID=UTC:20250509T150000
DTSTAMP:20260422T013820
CREATED:20241230T204606Z
LAST-MODIFIED:20241230T204606Z
UID:6754-1746799200-1746802800@www.blauweboom.nl
SUMMARY:Sport Vitaal
DESCRIPTION:
URL:https://www.blauweboom.nl/event/sport-vitaal-32/
END:VEVENT
BEGIN:VEVENT
DTSTART;TZID=UTC:20250509T151500
DTEND;TZID=UTC:20250509T171500
DTSTAMP:20260422T013820
CREATED:20241230T213238Z
LAST-MODIFIED:20241230T213238Z
UID:6806-1746803700-1746810900@www.blauweboom.nl
SUMMARY:Straatgeluid
DESCRIPTION:
URL:https://www.blauweboom.nl/event/straatgeluid-68/
END:VEVENT
BEGIN:VEVENT
DTSTART;TZID=UTC:20250510T130000
DTEND;TZID=UTC:20250510T153000
DTSTAMP:20260422T013820
CREATED:20241229T205742Z
LAST-MODIFIED:20241229T205742Z
UID:6443-1746882000-1746891000@www.blauweboom.nl
SUMMARY:Repair Cafè
DESCRIPTION:
URL:https://www.blauweboom.nl/event/repair-cafe-13/
END:VEVENT
BEGIN:VEVENT
DTSTART;TZID=UTC:20250512T100000
DTEND;TZID=UTC:20250512T120000
DTSTAMP:20260422T013820
CREATED:20250506T125334Z
LAST-MODIFIED:20250506T125334Z
UID:7066-1747044000-1747051200@www.blauweboom.nl
SUMMARY:Woonwaard vergadering
DESCRIPTION:
URL:https://www.blauweboom.nl/event/woonwaard-vergadering-2/
END:VEVENT
BEGIN:VEVENT
DTSTART;TZID=UTC:20250512T120000
DTEND;TZID=UTC:20250512T140000
DTSTAMP:20260422T013820
CREATED:20241230T184513Z
LAST-MODIFIED:20241230T184513Z
UID:6484-1747051200-1747058400@www.blauweboom.nl
SUMMARY:Buurtvrouwen
DESCRIPTION:
URL:https://www.blauweboom.nl/event/buurtvrouwen-49/
END:VEVENT
BEGIN:VEVENT
DTSTART;TZID=UTC:20250512T193000
DTEND;TZID=UTC:20250512T210000
DTSTAMP:20260422T013820
CREATED:20250327T211203Z
LAST-MODIFIED:20250327T211203Z
UID:7036-1747078200-1747083600@www.blauweboom.nl
SUMMARY:VVE dhr. Doornbos
DESCRIPTION:
URL:https://www.blauweboom.nl/event/vve-dhr-doornbos/
END:VEVENT
BEGIN:VEVENT
DTSTART;TZID=UTC:20250513T093000
DTEND;TZID=UTC:20250513T113000
DTSTAMP:20260422T013820
CREATED:20241230T190742Z
LAST-MODIFIED:20241230T190742Z
UID:6538-1747128600-1747135800@www.blauweboom.nl
SUMMARY:Samen gezond
DESCRIPTION:
URL:https://www.blauweboom.nl/event/samen-gezond-34/
END:VEVENT
BEGIN:VEVENT
DTSTART;TZID=UTC:20250513T190000
DTEND;TZID=UTC:20250513T220000
DTSTAMP:20260422T013820
CREATED:20241230T193532Z
LAST-MODIFIED:20241230T193532Z
UID:6597-1747162800-1747173600@www.blauweboom.nl
SUMMARY:Straatgeluid
DESCRIPTION:
URL:https://www.blauweboom.nl/event/straatgeluid-18/
END:VEVENT
BEGIN:VEVENT
DTSTART;TZID=UTC:20250514T193000
DTEND;TZID=UTC:20250514T210000
DTSTAMP:20260422T013820
CREATED:20241230T200246Z
LAST-MODIFIED:20241230T200246Z
UID:6651-1747251000-1747256400@www.blauweboom.nl
SUMMARY:Djembè
DESCRIPTION:
URL:https://www.blauweboom.nl/event/djembe-64/
END:VEVENT
BEGIN:VEVENT
DTSTART;TZID=UTC:20250515T190000
DTEND;TZID=UTC:20250515T220000
DTSTAMP:20260422T013820
CREATED:20241230T202515Z
LAST-MODIFIED:20241230T202515Z
UID:6704-1747335600-1747346400@www.blauweboom.nl
SUMMARY:Straatgeluid
DESCRIPTION:
URL:https://www.blauweboom.nl/event/straatgeluid-45/
END:VEVENT
BEGIN:VEVENT
DTSTART;TZID=UTC:20250516T140000
DTEND;TZID=UTC:20250516T150000
DTSTAMP:20260422T013820
CREATED:20241230T204644Z
LAST-MODIFIED:20241230T204644Z
UID:6756-1747404000-1747407600@www.blauweboom.nl
SUMMARY:Sport Vitaal
DESCRIPTION:
URL:https://www.blauweboom.nl/event/sport-vitaal-33/
END:VEVENT
BEGIN:VEVENT
DTSTART;TZID=UTC:20250516T151500
DTEND;TZID=UTC:20250516T171500
DTSTAMP:20260422T013820
CREATED:20241230T213318Z
LAST-MODIFIED:20241230T213318Z
UID:6808-1747408500-1747415700@www.blauweboom.nl
SUMMARY:Straatgeluid
DESCRIPTION:
URL:https://www.blauweboom.nl/event/straatgeluid-69/
END:VEVENT
BEGIN:VEVENT
DTSTART;TZID=UTC:20250518T140000
DTEND;TZID=UTC:20250518T170000
DTSTAMP:20260422T013820
CREATED:20250327T211315Z
LAST-MODIFIED:20250327T211315Z
UID:7038-1747576800-1747587600@www.blauweboom.nl
SUMMARY:Eritrese gemeenschap dhr. D. Gabriel
DESCRIPTION:
URL:https://www.blauweboom.nl/event/eritrese-gemeenschap-dhr-d-gabriel/
END:VEVENT
BEGIN:VEVENT
DTSTART;TZID=UTC:20250519T100000
DTEND;TZID=UTC:20250519T120000
DTSTAMP:20260422T013820
CREATED:20241230T184554Z
LAST-MODIFIED:20250521T173456Z
UID:6486-1747648800-1747656000@www.blauweboom.nl
SUMMARY:Buurtvrouwen
DESCRIPTION:
URL:https://www.blauweboom.nl/event/buurtvrouwen-50/
END:VEVENT
BEGIN:VEVENT
DTSTART;TZID=UTC:20250520T093000
DTEND;TZID=UTC:20250520T113000
DTSTAMP:20260422T013820
CREATED:20241230T191050Z
LAST-MODIFIED:20241230T191050Z
UID:6541-1747733400-1747740600@www.blauweboom.nl
SUMMARY:Samen gezond
DESCRIPTION:
URL:https://www.blauweboom.nl/event/samen-gezond-32/
END:VEVENT
BEGIN:VEVENT
DTSTART;TZID=UTC:20250520T190000
DTEND;TZID=UTC:20250520T220000
DTSTAMP:20260422T013820
CREATED:20241230T193607Z
LAST-MODIFIED:20241230T193607Z
UID:6599-1747767600-1747778400@www.blauweboom.nl
SUMMARY:Straatgeluid
DESCRIPTION:
URL:https://www.blauweboom.nl/event/straatgeluid-19/
END:VEVENT
BEGIN:VEVENT
DTSTART;TZID=UTC:20250521T193000
DTEND;TZID=UTC:20250521T210000
DTSTAMP:20260422T013820
CREATED:20241230T200328Z
LAST-MODIFIED:20241230T200328Z
UID:6653-1747855800-1747861200@www.blauweboom.nl
SUMMARY:Djembè
DESCRIPTION:
URL:https://www.blauweboom.nl/event/djembe-65/
END:VEVENT
BEGIN:VEVENT
DTSTART;TZID=UTC:20250522T190000
DTEND;TZID=UTC:20250522T220000
DTSTAMP:20260422T013820
CREATED:20241230T202553Z
LAST-MODIFIED:20241230T202553Z
UID:6706-1747940400-1747951200@www.blauweboom.nl
SUMMARY:Straatgeluid
DESCRIPTION:
URL:https://www.blauweboom.nl/event/straatgeluid-46/
END:VEVENT
BEGIN:VEVENT
DTSTART;TZID=UTC:20250523T140000
DTEND;TZID=UTC:20250523T150000
DTSTAMP:20260422T013820
CREATED:20241230T204728Z
LAST-MODIFIED:20241230T204728Z
UID:6758-1748008800-1748012400@www.blauweboom.nl
SUMMARY:Sport Vitaal
DESCRIPTION:
URL:https://www.blauweboom.nl/event/sport-vitaal-34/
END:VEVENT
BEGIN:VEVENT
DTSTART;TZID=UTC:20250523T183000
DTEND;TZID=UTC:20250523T203000
DTSTAMP:20260422T013820
CREATED:20241229T203726Z
LAST-MODIFIED:20241229T203726Z
UID:6435-1748025000-1748032200@www.blauweboom.nl
SUMMARY:Samen Eten
DESCRIPTION:
URL:https://www.blauweboom.nl/event/samen-eten-7/
END:VEVENT
END:VCALENDAR