BEGIN:VCALENDAR
VERSION:2.0
PRODID:-// - ECPv6.15.20//NONSGML v1.0//EN
CALSCALE:GREGORIAN
METHOD:PUBLISH
X-ORIGINAL-URL:https://www.blauweboom.nl
X-WR-CALDESC:Evenementen voor 
REFRESH-INTERVAL;VALUE=DURATION:PT1H
X-Robots-Tag:noindex
X-PUBLISHED-TTL:PT1H
BEGIN:VTIMEZONE
TZID:UTC
BEGIN:STANDARD
TZOFFSETFROM:+0000
TZOFFSETTO:+0000
TZNAME:UTC
DTSTART:20240101T000000
END:STANDARD
END:VTIMEZONE
BEGIN:VEVENT
DTSTART;TZID=UTC:20250601T140000
DTEND;TZID=UTC:20250601T170000
DTSTAMP:20260421T233307
CREATED:20250108T142503Z
LAST-MODIFIED:20250108T142503Z
UID:6876-1748786400-1748797200@www.blauweboom.nl
SUMMARY:Happy Kids Club
DESCRIPTION:
URL:https://www.blauweboom.nl/event/happy-kids-club-14/
END:VEVENT
BEGIN:VEVENT
DTSTART;TZID=UTC:20250602T100000
DTEND;TZID=UTC:20250602T120000
DTSTAMP:20260421T233307
CREATED:20241230T184729Z
LAST-MODIFIED:20250521T174117Z
UID:6490-1748858400-1748865600@www.blauweboom.nl
SUMMARY:Buurtvrouwen
DESCRIPTION:
URL:https://www.blauweboom.nl/event/buurtvrouwen-52/
END:VEVENT
BEGIN:VEVENT
DTSTART;TZID=UTC:20250603T093000
DTEND;TZID=UTC:20250603T113000
DTSTAMP:20260421T233307
CREATED:20241230T191217Z
LAST-MODIFIED:20241230T191217Z
UID:6545-1748943000-1748950200@www.blauweboom.nl
SUMMARY:Samen gezond
DESCRIPTION:
URL:https://www.blauweboom.nl/event/samen-gezond-36/
END:VEVENT
BEGIN:VEVENT
DTSTART;TZID=UTC:20250603T190000
DTEND;TZID=UTC:20250603T220000
DTSTAMP:20260421T233307
CREATED:20241230T193807Z
LAST-MODIFIED:20241230T193807Z
UID:6605-1748977200-1748988000@www.blauweboom.nl
SUMMARY:Straatgeluid
DESCRIPTION:
URL:https://www.blauweboom.nl/event/straatgeluid-22/
END:VEVENT
BEGIN:VEVENT
DTSTART;TZID=UTC:20250604T100000
DTEND;TZID=UTC:20250604T120000
DTSTAMP:20260421T233307
CREATED:20250110T215700Z
LAST-MODIFIED:20250110T215700Z
UID:6890-1749031200-1749038400@www.blauweboom.nl
SUMMARY:Creatief & Beppen
DESCRIPTION:
URL:https://www.blauweboom.nl/event/creatief-beppen-3/
END:VEVENT
BEGIN:VEVENT
DTSTART;TZID=UTC:20250604T193000
DTEND;TZID=UTC:20250604T210000
DTSTAMP:20260421T233307
CREATED:20241230T200456Z
LAST-MODIFIED:20241230T200456Z
UID:6657-1749065400-1749070800@www.blauweboom.nl
SUMMARY:Djembè
DESCRIPTION:
URL:https://www.blauweboom.nl/event/djembe-67/
END:VEVENT
BEGIN:VEVENT
DTSTART;TZID=UTC:20250605T190000
DTEND;TZID=UTC:20250605T220000
DTSTAMP:20260421T233307
CREATED:20241230T202710Z
LAST-MODIFIED:20241230T202710Z
UID:6710-1749150000-1749160800@www.blauweboom.nl
SUMMARY:Straatgeluid
DESCRIPTION:
URL:https://www.blauweboom.nl/event/straatgeluid-48/
END:VEVENT
BEGIN:VEVENT
DTSTART;TZID=UTC:20250606T140000
DTEND;TZID=UTC:20250606T150000
DTSTAMP:20260421T233307
CREATED:20241230T204900Z
LAST-MODIFIED:20241230T204900Z
UID:6762-1749218400-1749222000@www.blauweboom.nl
SUMMARY:Sport Vitaal
DESCRIPTION:
URL:https://www.blauweboom.nl/event/sport-vitaal-36/
END:VEVENT
BEGIN:VEVENT
DTSTART;TZID=UTC:20250606T151500
DTEND;TZID=UTC:20250606T171500
DTSTAMP:20260421T233307
CREATED:20241230T213558Z
LAST-MODIFIED:20241230T213558Z
UID:6816-1749222900-1749230100@www.blauweboom.nl
SUMMARY:Straatgeluid
DESCRIPTION:
URL:https://www.blauweboom.nl/event/straatgeluid-73/
END:VEVENT
BEGIN:VEVENT
DTSTART;TZID=UTC:20250606T193000
DTEND;TZID=UTC:20250606T213000
DTSTAMP:20260421T233307
CREATED:20250416T193742Z
LAST-MODIFIED:20250416T193742Z
UID:7056-1749238200-1749245400@www.blauweboom.nl
SUMMARY:Vergadering vriendengroep mevr. Wijnker
DESCRIPTION:
URL:https://www.blauweboom.nl/event/vergadering-vriendengroep-mevr-wijnker/
END:VEVENT
BEGIN:VEVENT
DTSTART;TZID=UTC:20250607T170000
DTEND;TZID=UTC:20250607T220000
DTSTAMP:20260421T233307
CREATED:20250503T191628Z
LAST-MODIFIED:20250503T191628Z
UID:7064-1749315600-1749333600@www.blauweboom.nl
SUMMARY:Verjaardag L. Pinster
DESCRIPTION:
URL:https://www.blauweboom.nl/event/verjaardag-l-pinster/
END:VEVENT
BEGIN:VEVENT
DTSTART;TZID=UTC:20250609T100000
DTEND;TZID=UTC:20250609T120000
DTSTAMP:20260421T233307
CREATED:20241230T184809Z
LAST-MODIFIED:20250521T174213Z
UID:6492-1749463200-1749470400@www.blauweboom.nl
SUMMARY:Buurtvrouwen
DESCRIPTION:
URL:https://www.blauweboom.nl/event/buurtvrouwen-53/
END:VEVENT
BEGIN:VEVENT
DTSTART;TZID=UTC:20250610T093000
DTEND;TZID=UTC:20250610T113000
DTSTAMP:20260421T233307
CREATED:20241230T191253Z
LAST-MODIFIED:20241230T191253Z
UID:6547-1749547800-1749555000@www.blauweboom.nl
SUMMARY:Samen gezond
DESCRIPTION:
URL:https://www.blauweboom.nl/event/samen-gezond-37/
END:VEVENT
BEGIN:VEVENT
DTSTART;TZID=UTC:20250610T190000
DTEND;TZID=UTC:20250610T220000
DTSTAMP:20260421T233307
CREATED:20241230T193846Z
LAST-MODIFIED:20241230T193846Z
UID:6607-1749582000-1749592800@www.blauweboom.nl
SUMMARY:Straatgeluid
DESCRIPTION:
URL:https://www.blauweboom.nl/event/straatgeluid-23/
END:VEVENT
BEGIN:VEVENT
DTSTART;TZID=UTC:20250611T193000
DTEND;TZID=UTC:20250611T210000
DTSTAMP:20260421T233307
CREATED:20241230T200542Z
LAST-MODIFIED:20241230T200542Z
UID:6659-1749670200-1749675600@www.blauweboom.nl
SUMMARY:Djembè
DESCRIPTION:
URL:https://www.blauweboom.nl/event/djembe-68/
END:VEVENT
BEGIN:VEVENT
DTSTART;TZID=UTC:20250612T190000
DTEND;TZID=UTC:20250612T220000
DTSTAMP:20260421T233307
CREATED:20241230T202745Z
LAST-MODIFIED:20241230T202745Z
UID:6712-1749754800-1749765600@www.blauweboom.nl
SUMMARY:Straatgeluid
DESCRIPTION:
URL:https://www.blauweboom.nl/event/straatgeluid-49/
END:VEVENT
BEGIN:VEVENT
DTSTART;TZID=UTC:20250613T140000
DTEND;TZID=UTC:20250613T150000
DTSTAMP:20260421T233307
CREATED:20241230T204936Z
LAST-MODIFIED:20241230T204936Z
UID:6764-1749823200-1749826800@www.blauweboom.nl
SUMMARY:Sport Vitaal
DESCRIPTION:
URL:https://www.blauweboom.nl/event/sport-vitaal-37/
END:VEVENT
BEGIN:VEVENT
DTSTART;TZID=UTC:20250613T151500
DTEND;TZID=UTC:20250613T171500
DTSTAMP:20260421T233307
CREATED:20241230T213655Z
LAST-MODIFIED:20241230T213655Z
UID:6818-1749827700-1749834900@www.blauweboom.nl
SUMMARY:Straatgeluid
DESCRIPTION:
URL:https://www.blauweboom.nl/event/straatgeluid-74/
END:VEVENT
BEGIN:VEVENT
DTSTART;TZID=UTC:20250614T130000
DTEND;TZID=UTC:20250614T153000
DTSTAMP:20260421T233307
CREATED:20241229T205857Z
LAST-MODIFIED:20241229T205857Z
UID:6445-1749906000-1749915000@www.blauweboom.nl
SUMMARY:Repair Cafè
DESCRIPTION:
URL:https://www.blauweboom.nl/event/repair-cafe-14/
END:VEVENT
BEGIN:VEVENT
DTSTART;TZID=UTC:20250615T140000
DTEND;TZID=UTC:20250615T170000
DTSTAMP:20260421T233307
CREATED:20250604T085125Z
LAST-MODIFIED:20250604T085125Z
UID:7098-1749996000-1750006800@www.blauweboom.nl
SUMMARY:Eritrese gemeenschap
DESCRIPTION:
URL:https://www.blauweboom.nl/event/eritrese-gemeenschap-6/
END:VEVENT
BEGIN:VEVENT
DTSTART;TZID=UTC:20250616T100000
DTEND;TZID=UTC:20250616T120000
DTSTAMP:20260421T233307
CREATED:20241230T184906Z
LAST-MODIFIED:20250521T174257Z
UID:6494-1750068000-1750075200@www.blauweboom.nl
SUMMARY:Buurtvrouwen
DESCRIPTION:
URL:https://www.blauweboom.nl/event/buurtvrouwen-54/
END:VEVENT
BEGIN:VEVENT
DTSTART;TZID=UTC:20250617T093000
DTEND;TZID=UTC:20250617T113000
DTSTAMP:20260421T233307
CREATED:20241230T191330Z
LAST-MODIFIED:20241230T191330Z
UID:6549-1750152600-1750159800@www.blauweboom.nl
SUMMARY:Samen gezond
DESCRIPTION:
URL:https://www.blauweboom.nl/event/samen-gezond-38/
END:VEVENT
BEGIN:VEVENT
DTSTART;TZID=UTC:20250617T190000
DTEND;TZID=UTC:20250617T220000
DTSTAMP:20260421T233307
CREATED:20241230T193932Z
LAST-MODIFIED:20241230T193932Z
UID:6609-1750186800-1750197600@www.blauweboom.nl
SUMMARY:Straatgeluid
DESCRIPTION:
URL:https://www.blauweboom.nl/event/straatgeluid-24/
END:VEVENT
BEGIN:VEVENT
DTSTART;TZID=UTC:20250618T193000
DTEND;TZID=UTC:20250618T210000
DTSTAMP:20260421T233307
CREATED:20241230T200808Z
LAST-MODIFIED:20241230T200808Z
UID:6663-1750275000-1750280400@www.blauweboom.nl
SUMMARY:Djembè
DESCRIPTION:
URL:https://www.blauweboom.nl/event/djembe-70/
END:VEVENT
BEGIN:VEVENT
DTSTART;TZID=UTC:20250619T190000
DTEND;TZID=UTC:20250619T220000
DTSTAMP:20260421T233307
CREATED:20241230T202820Z
LAST-MODIFIED:20241230T202820Z
UID:6714-1750359600-1750370400@www.blauweboom.nl
SUMMARY:Straatgeluid
DESCRIPTION:
URL:https://www.blauweboom.nl/event/straatgeluid-50/
END:VEVENT
BEGIN:VEVENT
DTSTART;TZID=UTC:20250620T151500
DTEND;TZID=UTC:20250620T171500
DTSTAMP:20260421T233307
CREATED:20241230T213732Z
LAST-MODIFIED:20241230T213732Z
UID:6820-1750432500-1750439700@www.blauweboom.nl
SUMMARY:Straatgeluid
DESCRIPTION:
URL:https://www.blauweboom.nl/event/straatgeluid-75/
END:VEVENT
BEGIN:VEVENT
DTSTART;TZID=UTC:20250620T193000
DTEND;TZID=UTC:20250620T220000
DTSTAMP:20260421T233307
CREATED:20250517T210339Z
LAST-MODIFIED:20250517T210339Z
UID:7091-1750447800-1750456800@www.blauweboom.nl
SUMMARY:Vergadering JOL Alkmaar
DESCRIPTION:
URL:https://www.blauweboom.nl/event/vergadering-jol-alkmaar/
END:VEVENT
BEGIN:VEVENT
DTSTART;TZID=UTC:20250621T170000
DTEND;TZID=UTC:20250621T220000
DTSTAMP:20260421T233307
CREATED:20250604T085245Z
LAST-MODIFIED:20250604T085245Z
UID:7100-1750525200-1750543200@www.blauweboom.nl
SUMMARY:Suprise Party Naser Homayoun Aghdam
DESCRIPTION:
URL:https://www.blauweboom.nl/event/suprise-party-naser-homayoun-aghdam/
END:VEVENT
BEGIN:VEVENT
DTSTART;TZID=UTC:20250623T100000
DTEND;TZID=UTC:20250623T120000
DTSTAMP:20260421T233307
CREATED:20241230T184946Z
LAST-MODIFIED:20250521T174342Z
UID:6496-1750672800-1750680000@www.blauweboom.nl
SUMMARY:Buurtvrouwen
DESCRIPTION:
URL:https://www.blauweboom.nl/event/buurtvrouwen-55/
END:VEVENT
BEGIN:VEVENT
DTSTART;TZID=UTC:20250623T193000
DTEND;TZID=UTC:20250623T210000
DTSTAMP:20260421T233307
CREATED:20250521T172935Z
LAST-MODIFIED:20250521T172935Z
UID:7095-1750707000-1750712400@www.blauweboom.nl
SUMMARY:Vergadering VVE dhr. Doornbos
DESCRIPTION:
URL:https://www.blauweboom.nl/event/vergadering-vve-dhr-doornbos/
END:VEVENT
END:VCALENDAR