BEGIN:VCALENDAR
VERSION:2.0
PRODID:-// - ECPv6.15.20//NONSGML v1.0//EN
CALSCALE:GREGORIAN
METHOD:PUBLISH
X-ORIGINAL-URL:https://www.blauweboom.nl
X-WR-CALDESC:Evenementen voor 
REFRESH-INTERVAL;VALUE=DURATION:PT1H
X-Robots-Tag:noindex
X-PUBLISHED-TTL:PT1H
BEGIN:VTIMEZONE
TZID:UTC
BEGIN:STANDARD
TZOFFSETFROM:+0000
TZOFFSETTO:+0000
TZNAME:UTC
DTSTART:20240101T000000
END:STANDARD
END:VTIMEZONE
BEGIN:VEVENT
DTSTART;TZID=UTC:20250701T093000
DTEND;TZID=UTC:20250701T113000
DTSTAMP:20260421T213311
CREATED:20250624T113222Z
LAST-MODIFIED:20250624T113222Z
UID:7108-1751362200-1751369400@www.blauweboom.nl
SUMMARY:Samen Gezond
DESCRIPTION:
URL:https://www.blauweboom.nl/event/samen-gezond-18/
END:VEVENT
BEGIN:VEVENT
DTSTART;TZID=UTC:20250701T190000
DTEND;TZID=UTC:20250701T220000
DTSTAMP:20260421T213311
CREATED:20250805T123443Z
LAST-MODIFIED:20250805T123443Z
UID:7366-1751396400-1751407200@www.blauweboom.nl
SUMMARY:Straatgeluid
DESCRIPTION:
URL:https://www.blauweboom.nl/event/straatgeluid-77/
END:VEVENT
BEGIN:VEVENT
DTSTART;TZID=UTC:20250703T190000
DTEND;TZID=UTC:20250703T220000
DTSTAMP:20260421T213311
CREATED:20250701T192112Z
LAST-MODIFIED:20250701T193130Z
UID:7300-1751569200-1751580000@www.blauweboom.nl
SUMMARY:Straatgeluid
DESCRIPTION:
URL:https://www.blauweboom.nl/event/straatgeluid-16/
END:VEVENT
BEGIN:VEVENT
DTSTART;TZID=UTC:20250704T151500
DTEND;TZID=UTC:20250704T171500
DTSTAMP:20260421T213311
CREATED:20250805T132624Z
LAST-MODIFIED:20250805T132624Z
UID:7447-1751642100-1751649300@www.blauweboom.nl
SUMMARY:Straatgeluid
DESCRIPTION:
URL:https://www.blauweboom.nl/event/straatgeluid-120/
END:VEVENT
BEGIN:VEVENT
DTSTART;TZID=UTC:20250705T140000
DTEND;TZID=UTC:20250705T170000
DTSTAMP:20260421T213311
CREATED:20250108T142835Z
LAST-MODIFIED:20250108T142835Z
UID:6880-1751724000-1751734800@www.blauweboom.nl
SUMMARY:Happy Kids Club
DESCRIPTION:
URL:https://www.blauweboom.nl/event/happy-kids-club-16/
END:VEVENT
BEGIN:VEVENT
DTSTART;TZID=UTC:20250706T140000
DTEND;TZID=UTC:20250706T170000
DTSTAMP:20260421T213311
CREATED:20250108T142552Z
LAST-MODIFIED:20250108T142552Z
UID:6878-1751810400-1751821200@www.blauweboom.nl
SUMMARY:Happy Kids Club
DESCRIPTION:
URL:https://www.blauweboom.nl/event/happy-kids-club-15/
END:VEVENT
BEGIN:VEVENT
DTSTART;TZID=UTC:20250707T100000
DTEND;TZID=UTC:20250707T120000
DTSTAMP:20260421T213311
CREATED:20250701T191223Z
LAST-MODIFIED:20250701T191223Z
UID:7285-1751882400-1751889600@www.blauweboom.nl
SUMMARY:Buurtvrouwen
DESCRIPTION:
URL:https://www.blauweboom.nl/event/buurtvrouwen/
END:VEVENT
BEGIN:VEVENT
DTSTART;TZID=UTC:20250708T093000
DTEND;TZID=UTC:20250708T113000
DTSTAMP:20260421T213311
CREATED:20250624T113315Z
LAST-MODIFIED:20250624T113315Z
UID:7110-1751967000-1751974200@www.blauweboom.nl
SUMMARY:Samen Gezond
DESCRIPTION:
URL:https://www.blauweboom.nl/event/samen-gezond-40/
END:VEVENT
BEGIN:VEVENT
DTSTART;TZID=UTC:20250708T190000
DTEND;TZID=UTC:20250708T220000
DTSTAMP:20260421T213311
CREATED:20250805T123515Z
LAST-MODIFIED:20250805T123515Z
UID:7368-1752001200-1752012000@www.blauweboom.nl
SUMMARY:Straatgeluid
DESCRIPTION:
URL:https://www.blauweboom.nl/event/straatgeluid-83/
END:VEVENT
BEGIN:VEVENT
DTSTART;TZID=UTC:20250709T100000
DTEND;TZID=UTC:20250709T120000
DTSTAMP:20260421T213311
CREATED:20250110T215759Z
LAST-MODIFIED:20250110T215759Z
UID:6892-1752055200-1752062400@www.blauweboom.nl
SUMMARY:Creatief & Beppen
DESCRIPTION:
URL:https://www.blauweboom.nl/event/creatief-beppen-4/
END:VEVENT
BEGIN:VEVENT
DTSTART;TZID=UTC:20250710T190000
DTEND;TZID=UTC:20250710T220000
DTSTAMP:20260421T213311
CREATED:20250701T200234Z
LAST-MODIFIED:20250701T200234Z
UID:7302-1752174000-1752184800@www.blauweboom.nl
SUMMARY:Straatgeluid
DESCRIPTION:
URL:https://www.blauweboom.nl/event/straatgeluid-55/
END:VEVENT
BEGIN:VEVENT
DTSTART;TZID=UTC:20250711T151500
DTEND;TZID=UTC:20250711T171500
DTSTAMP:20260421T213311
CREATED:20250805T132701Z
LAST-MODIFIED:20250805T132701Z
UID:7449-1752246900-1752254100@www.blauweboom.nl
SUMMARY:Straatgeluid
DESCRIPTION:
URL:https://www.blauweboom.nl/event/straatgeluid-121/
END:VEVENT
BEGIN:VEVENT
DTSTART;TZID=UTC:20250715T093000
DTEND;TZID=UTC:20250715T113000
DTSTAMP:20260421T213311
CREATED:20250624T113345Z
LAST-MODIFIED:20250624T113345Z
UID:7112-1752571800-1752579000@www.blauweboom.nl
SUMMARY:Samen Gezond
DESCRIPTION:
URL:https://www.blauweboom.nl/event/samen-gezond-41/
END:VEVENT
BEGIN:VEVENT
DTSTART;TZID=UTC:20250715T140000
DTEND;TZID=UTC:20250715T160000
DTSTAMP:20260421T213311
CREATED:20250517T210616Z
LAST-MODIFIED:20250517T210616Z
UID:7093-1752588000-1752595200@www.blauweboom.nl
SUMMARY:Ijs buffet feest Willem
DESCRIPTION:
URL:https://www.blauweboom.nl/event/ijs-buffet-feest-willem/
END:VEVENT
BEGIN:VEVENT
DTSTART;TZID=UTC:20250715T190000
DTEND;TZID=UTC:20250715T220000
DTSTAMP:20260421T213311
CREATED:20250805T123549Z
LAST-MODIFIED:20250805T123549Z
UID:7370-1752606000-1752616800@www.blauweboom.nl
SUMMARY:Straatgeluid
DESCRIPTION:
URL:https://www.blauweboom.nl/event/straatgeluid-84/
END:VEVENT
BEGIN:VEVENT
DTSTART;TZID=UTC:20250717T190000
DTEND;TZID=UTC:20250717T220000
DTSTAMP:20260421T213311
CREATED:20250701T200306Z
LAST-MODIFIED:20250701T200306Z
UID:7304-1752778800-1752789600@www.blauweboom.nl
SUMMARY:Straatgeluid
DESCRIPTION:
URL:https://www.blauweboom.nl/event/straatgeluid-57/
END:VEVENT
BEGIN:VEVENT
DTSTART;TZID=UTC:20250718T151500
DTEND;TZID=UTC:20250718T171500
DTSTAMP:20260421T213311
CREATED:20250805T132737Z
LAST-MODIFIED:20250805T132737Z
UID:7451-1752851700-1752858900@www.blauweboom.nl
SUMMARY:Straatgeluid
DESCRIPTION:
URL:https://www.blauweboom.nl/event/straatgeluid-122/
END:VEVENT
BEGIN:VEVENT
DTSTART;TZID=UTC:20250722T093000
DTEND;TZID=UTC:20250722T113000
DTSTAMP:20260421T213311
CREATED:20250624T113421Z
LAST-MODIFIED:20250624T113421Z
UID:7114-1753176600-1753183800@www.blauweboom.nl
SUMMARY:Samen Gezond
DESCRIPTION:
URL:https://www.blauweboom.nl/event/samen-gezond-42/
END:VEVENT
BEGIN:VEVENT
DTSTART;TZID=UTC:20250729T093000
DTEND;TZID=UTC:20250729T113000
DTSTAMP:20260421T213311
CREATED:20250624T113456Z
LAST-MODIFIED:20250624T113456Z
UID:7116-1753781400-1753788600@www.blauweboom.nl
SUMMARY:Samen Gezond
DESCRIPTION:
URL:https://www.blauweboom.nl/event/samen-gezond-43/
END:VEVENT
BEGIN:VEVENT
DTSTART;TZID=UTC:20250730T160000
DTEND;TZID=UTC:20250730T170000
DTSTAMP:20260421T213311
CREATED:20250627T193116Z
LAST-MODIFIED:20250627T193116Z
UID:7273-1753891200-1753894800@www.blauweboom.nl
SUMMARY:SP Hulpdienst
DESCRIPTION:
URL:https://www.blauweboom.nl/event/sp-hulpdienst-2/
END:VEVENT
END:VCALENDAR