BEGIN:VCALENDAR
VERSION:2.0
PRODID:-// - ECPv6.15.20//NONSGML v1.0//EN
CALSCALE:GREGORIAN
METHOD:PUBLISH
X-ORIGINAL-URL:https://www.blauweboom.nl
X-WR-CALDESC:Evenementen voor 
REFRESH-INTERVAL;VALUE=DURATION:PT1H
X-Robots-Tag:noindex
X-PUBLISHED-TTL:PT1H
BEGIN:VTIMEZONE
TZID:UTC
BEGIN:STANDARD
TZOFFSETFROM:+0000
TZOFFSETTO:+0000
TZNAME:UTC
DTSTART:20240101T000000
END:STANDARD
END:VTIMEZONE
BEGIN:VEVENT
DTSTART;TZID=UTC:20250801T160000
DTEND;TZID=UTC:20250801T233000
DTSTAMP:20260421T194935
CREATED:20250725T152501Z
LAST-MODIFIED:20250725T152501Z
UID:7322-1754064000-1754091000@www.blauweboom.nl
SUMMARY:Surprise party Lois
DESCRIPTION:
URL:https://www.blauweboom.nl/event/surprise-party-lois/
END:VEVENT
BEGIN:VEVENT
DTSTART;TZID=UTC:20250805T093000
DTEND;TZID=UTC:20250805T113000
DTSTAMP:20260421T194935
CREATED:20250624T113537Z
LAST-MODIFIED:20250624T113537Z
UID:7118-1754386200-1754393400@www.blauweboom.nl
SUMMARY:Samen Gezond
DESCRIPTION:
URL:https://www.blauweboom.nl/event/samen-gezond-44/
END:VEVENT
BEGIN:VEVENT
DTSTART;TZID=UTC:20250805T190000
DTEND;TZID=UTC:20250805T220000
DTSTAMP:20260421T194935
CREATED:20250805T123640Z
LAST-MODIFIED:20250805T123640Z
UID:7372-1754420400-1754431200@www.blauweboom.nl
SUMMARY:Straatgeluid
DESCRIPTION:
URL:https://www.blauweboom.nl/event/straatgeluid-85/
END:VEVENT
BEGIN:VEVENT
DTSTART;TZID=UTC:20250807T190000
DTEND;TZID=UTC:20250807T220000
DTSTAMP:20260421T194935
CREATED:20250701T200402Z
LAST-MODIFIED:20250701T200402Z
UID:7306-1754593200-1754604000@www.blauweboom.nl
SUMMARY:Straatgeluid
DESCRIPTION:
URL:https://www.blauweboom.nl/event/straatgeluid-70/
END:VEVENT
BEGIN:VEVENT
DTSTART;TZID=UTC:20250812T093000
DTEND;TZID=UTC:20250812T113000
DTSTAMP:20260421T194935
CREATED:20250624T113609Z
LAST-MODIFIED:20250624T113609Z
UID:7120-1754991000-1754998200@www.blauweboom.nl
SUMMARY:Samen Gezond
DESCRIPTION:
URL:https://www.blauweboom.nl/event/samen-gezond-45/
END:VEVENT
BEGIN:VEVENT
DTSTART;TZID=UTC:20250812T190000
DTEND;TZID=UTC:20250812T210000
DTSTAMP:20260421T194935
CREATED:20250805T123710Z
LAST-MODIFIED:20250805T123710Z
UID:7374-1755025200-1755032400@www.blauweboom.nl
SUMMARY:Straatgeluid
DESCRIPTION:
URL:https://www.blauweboom.nl/event/straatgeluid-86/
END:VEVENT
BEGIN:VEVENT
DTSTART;TZID=UTC:20250814T190000
DTEND;TZID=UTC:20250814T220000
DTSTAMP:20260421T194935
CREATED:20250701T200436Z
LAST-MODIFIED:20250701T200436Z
UID:7308-1755198000-1755208800@www.blauweboom.nl
SUMMARY:Straatgeluid
DESCRIPTION:
URL:https://www.blauweboom.nl/event/straatgeluid-71/
END:VEVENT
BEGIN:VEVENT
DTSTART;TZID=UTC:20250815T160000
DTEND;TZID=UTC:20250815T180000
DTSTAMP:20260421T194935
CREATED:20250805T132944Z
LAST-MODIFIED:20250805T132944Z
UID:7455-1755273600-1755280800@www.blauweboom.nl
SUMMARY:Straatgeluid
DESCRIPTION:
URL:https://www.blauweboom.nl/event/straatgeluid-124/
END:VEVENT
BEGIN:VEVENT
DTSTART;TZID=UTC:20250818T150000
DTEND;TZID=UTC:20250818T190000
DTSTAMP:20260421T194935
CREATED:20250805T121524Z
LAST-MODIFIED:20250805T121524Z
UID:7324-1755529200-1755543600@www.blauweboom.nl
SUMMARY:Familie diner Marleen
DESCRIPTION:
URL:https://www.blauweboom.nl/event/familie-diner-marleen/
END:VEVENT
BEGIN:VEVENT
DTSTART;TZID=UTC:20250819T093000
DTEND;TZID=UTC:20250819T113000
DTSTAMP:20260421T194935
CREATED:20250624T113646Z
LAST-MODIFIED:20250624T113646Z
UID:7122-1755595800-1755603000@www.blauweboom.nl
SUMMARY:Samen Gezond
DESCRIPTION:
URL:https://www.blauweboom.nl/event/samen-gezond-46/
END:VEVENT
BEGIN:VEVENT
DTSTART;TZID=UTC:20250819T190000
DTEND;TZID=UTC:20250819T220000
DTSTAMP:20260421T194935
CREATED:20250805T123749Z
LAST-MODIFIED:20250805T123749Z
UID:7376-1755630000-1755640800@www.blauweboom.nl
SUMMARY:Straatgeluid
DESCRIPTION:
URL:https://www.blauweboom.nl/event/straatgeluid-87/
END:VEVENT
BEGIN:VEVENT
DTSTART;TZID=UTC:20250822T160000
DTEND;TZID=UTC:20250822T180000
DTSTAMP:20260421T194935
CREATED:20250805T133018Z
LAST-MODIFIED:20250805T133018Z
UID:7457-1755878400-1755885600@www.blauweboom.nl
SUMMARY:Straatgeluid
DESCRIPTION:
URL:https://www.blauweboom.nl/event/straatgeluid-125/
END:VEVENT
BEGIN:VEVENT
DTSTART;TZID=UTC:20250825T100000
DTEND;TZID=UTC:20250825T120000
DTSTAMP:20260421T194935
CREATED:20250701T191310Z
LAST-MODIFIED:20250828T144238Z
UID:7287-1756116000-1756123200@www.blauweboom.nl
SUMMARY:Buurtvrouwen
DESCRIPTION:
URL:https://www.blauweboom.nl/event/buurtvrouwen-2/
END:VEVENT
BEGIN:VEVENT
DTSTART;TZID=UTC:20250826T093000
DTEND;TZID=UTC:20250826T113000
DTSTAMP:20260421T194935
CREATED:20250624T113722Z
LAST-MODIFIED:20250624T113722Z
UID:7124-1756200600-1756207800@www.blauweboom.nl
SUMMARY:Samen Gezond
DESCRIPTION:
URL:https://www.blauweboom.nl/event/samen-gezond-47/
END:VEVENT
BEGIN:VEVENT
DTSTART;TZID=UTC:20250826T190000
DTEND;TZID=UTC:20250826T220000
DTSTAMP:20260421T194935
CREATED:20250805T123823Z
LAST-MODIFIED:20250805T123823Z
UID:7378-1756234800-1756245600@www.blauweboom.nl
SUMMARY:Straatgeluid
DESCRIPTION:
URL:https://www.blauweboom.nl/event/straatgeluid-88/
END:VEVENT
BEGIN:VEVENT
DTSTART;TZID=UTC:20250827T160000
DTEND;TZID=UTC:20250827T170000
DTSTAMP:20260421T194935
CREATED:20250627T193152Z
LAST-MODIFIED:20250627T193152Z
UID:7275-1756310400-1756314000@www.blauweboom.nl
SUMMARY:SP Hulpdienst
DESCRIPTION:
URL:https://www.blauweboom.nl/event/sp-hulpdienst-3/
END:VEVENT
BEGIN:VEVENT
DTSTART;TZID=UTC:20250828T190000
DTEND;TZID=UTC:20250828T220000
DTSTAMP:20260421T194935
CREATED:20250701T201017Z
LAST-MODIFIED:20250701T201017Z
UID:7312-1756407600-1756418400@www.blauweboom.nl
SUMMARY:Straatgeluid
DESCRIPTION:
URL:https://www.blauweboom.nl/event/straatgeluid-78/
END:VEVENT
BEGIN:VEVENT
DTSTART;TZID=UTC:20250829T160000
DTEND;TZID=UTC:20250829T180000
DTSTAMP:20260421T194935
CREATED:20250805T133049Z
LAST-MODIFIED:20250805T133049Z
UID:7459-1756483200-1756490400@www.blauweboom.nl
SUMMARY:Straatgeluid
DESCRIPTION:
URL:https://www.blauweboom.nl/event/straatgeluid-126/
END:VEVENT
END:VCALENDAR