BEGIN:VCALENDAR
VERSION:2.0
PRODID:-// - ECPv6.15.20//NONSGML v1.0//EN
CALSCALE:GREGORIAN
METHOD:PUBLISH
X-ORIGINAL-URL:https://www.blauweboom.nl
X-WR-CALDESC:Evenementen voor 
REFRESH-INTERVAL;VALUE=DURATION:PT1H
X-Robots-Tag:noindex
X-PUBLISHED-TTL:PT1H
BEGIN:VTIMEZONE
TZID:UTC
BEGIN:STANDARD
TZOFFSETFROM:+0000
TZOFFSETTO:+0000
TZNAME:UTC
DTSTART:20240101T000000
END:STANDARD
END:VTIMEZONE
BEGIN:VEVENT
DTSTART;TZID=UTC:20251001T133000
DTEND;TZID=UTC:20251001T153000
DTSTAMP:20260421T162537
CREATED:20250624T115801Z
LAST-MODIFIED:20250624T115801Z
UID:7164-1759325400-1759332600@www.blauweboom.nl
SUMMARY:Teken en schilderclub
DESCRIPTION:
URL:https://www.blauweboom.nl/event/teken-en-schilderclub-2/
END:VEVENT
BEGIN:VEVENT
DTSTART;TZID=UTC:20251002T190000
DTEND;TZID=UTC:20251002T220000
DTSTAMP:20260421T162537
CREATED:20250805T131523Z
LAST-MODIFIED:20250805T131523Z
UID:7422-1759431600-1759442400@www.blauweboom.nl
SUMMARY:Straatgeluid
DESCRIPTION:
URL:https://www.blauweboom.nl/event/straatgeluid-108/
END:VEVENT
BEGIN:VEVENT
DTSTART;TZID=UTC:20251003T140000
DTEND;TZID=UTC:20251003T150000
DTSTAMP:20260421T162537
CREATED:20250627T184530Z
LAST-MODIFIED:20250627T184530Z
UID:7209-1759500000-1759503600@www.blauweboom.nl
SUMMARY:Sport Vitaal
DESCRIPTION:
URL:https://www.blauweboom.nl/event/sport-vitaal-38/
END:VEVENT
BEGIN:VEVENT
DTSTART;TZID=UTC:20251003T160000
DTEND;TZID=UTC:20251003T180000
DTSTAMP:20260421T162537
CREATED:20251101T090215Z
LAST-MODIFIED:20251101T090215Z
UID:7607-1759507200-1759514400@www.blauweboom.nl
SUMMARY:Straatgeluid
DESCRIPTION:
URL:https://www.blauweboom.nl/event/straatgeluid-127/
END:VEVENT
BEGIN:VEVENT
DTSTART;TZID=UTC:20251004T160000
DTEND;TZID=UTC:20251004T233000
DTSTAMP:20260421T162537
CREATED:20250821T134407Z
LAST-MODIFIED:20250821T134407Z
UID:7516-1759593600-1759620600@www.blauweboom.nl
SUMMARY:Verjaardag Loretta
DESCRIPTION:
URL:https://www.blauweboom.nl/event/verjaardag-loretta/
END:VEVENT
BEGIN:VEVENT
DTSTART;TZID=UTC:20251006T100000
DTEND;TZID=UTC:20251006T120000
DTSTAMP:20260421T162537
CREATED:20250805T183000Z
LAST-MODIFIED:20250828T145116Z
UID:7510-1759744800-1759752000@www.blauweboom.nl
SUMMARY:Buurtvrouwen
DESCRIPTION:
URL:https://www.blauweboom.nl/event/buurtvrouwen-19/
END:VEVENT
BEGIN:VEVENT
DTSTART;TZID=UTC:20251006T193000
DTEND;TZID=UTC:20251006T210000
DTSTAMP:20260421T162537
CREATED:20250805T122051Z
LAST-MODIFIED:20250805T122051Z
UID:7338-1759779000-1759784400@www.blauweboom.nl
SUMMARY:Djembè
DESCRIPTION:
URL:https://www.blauweboom.nl/event/djembe-6/
END:VEVENT
BEGIN:VEVENT
DTSTART;TZID=UTC:20251007T093000
DTEND;TZID=UTC:20251007T113000
DTSTAMP:20260421T162537
CREATED:20250624T114200Z
LAST-MODIFIED:20250624T114200Z
UID:7136-1759829400-1759836600@www.blauweboom.nl
SUMMARY:Samen Gezond
DESCRIPTION:
URL:https://www.blauweboom.nl/event/samen-gezond-53/
END:VEVENT
BEGIN:VEVENT
DTSTART;TZID=UTC:20251007T190000
DTEND;TZID=UTC:20251007T220000
DTSTAMP:20260421T162537
CREATED:20251030T102812Z
LAST-MODIFIED:20251030T102812Z
UID:7587-1759863600-1759874400@www.blauweboom.nl
SUMMARY:Straatgeluid
DESCRIPTION:
URL:https://www.blauweboom.nl/event/straatgeluid-94/
END:VEVENT
BEGIN:VEVENT
DTSTART;TZID=UTC:20251008T133000
DTEND;TZID=UTC:20251008T153000
DTSTAMP:20260421T162537
CREATED:20250624T115849Z
LAST-MODIFIED:20250624T115849Z
UID:7166-1759930200-1759937400@www.blauweboom.nl
SUMMARY:Teken en schilderclub
DESCRIPTION:
URL:https://www.blauweboom.nl/event/teken-en-schilderclub-3/
END:VEVENT
BEGIN:VEVENT
DTSTART;TZID=UTC:20251009T190000
DTEND;TZID=UTC:20251009T220000
DTSTAMP:20260421T162537
CREATED:20250805T131605Z
LAST-MODIFIED:20250805T131605Z
UID:7424-1760036400-1760047200@www.blauweboom.nl
SUMMARY:Straatgeluid
DESCRIPTION:
URL:https://www.blauweboom.nl/event/straatgeluid-109/
END:VEVENT
BEGIN:VEVENT
DTSTART;TZID=UTC:20251010T140000
DTEND;TZID=UTC:20251010T150000
DTSTAMP:20260421T162537
CREATED:20250627T184608Z
LAST-MODIFIED:20250627T184608Z
UID:7211-1760104800-1760108400@www.blauweboom.nl
SUMMARY:Sport Vitaal
DESCRIPTION:
URL:https://www.blauweboom.nl/event/sport-vitaal-39/
END:VEVENT
BEGIN:VEVENT
DTSTART;TZID=UTC:20251010T160000
DTEND;TZID=UTC:20251010T180000
DTSTAMP:20260421T162537
CREATED:20251101T090248Z
LAST-MODIFIED:20251101T090248Z
UID:7609-1760112000-1760119200@www.blauweboom.nl
SUMMARY:Straatgeluid
DESCRIPTION:
URL:https://www.blauweboom.nl/event/straatgeluid-128/
END:VEVENT
BEGIN:VEVENT
DTSTART;TZID=UTC:20251011T130000
DTEND;TZID=UTC:20251011T153000
DTSTAMP:20260421T162537
CREATED:20250624T121049Z
LAST-MODIFIED:20250624T121049Z
UID:7194-1760187600-1760196600@www.blauweboom.nl
SUMMARY:Repair Café
DESCRIPTION:
URL:https://www.blauweboom.nl/event/repair-cafe-2/
END:VEVENT
BEGIN:VEVENT
DTSTART;TZID=UTC:20251013T100000
DTEND;TZID=UTC:20251013T120000
DTSTAMP:20260421T162537
CREATED:20250805T182315Z
LAST-MODIFIED:20250828T144639Z
UID:7493-1760349600-1760356800@www.blauweboom.nl
SUMMARY:Buurtvrouwen
DESCRIPTION:
URL:https://www.blauweboom.nl/event/buurtvrouwen-11/
END:VEVENT
BEGIN:VEVENT
DTSTART;TZID=UTC:20251013T193000
DTEND;TZID=UTC:20251013T210000
DTSTAMP:20260421T162537
CREATED:20250805T122121Z
LAST-MODIFIED:20250805T122121Z
UID:7340-1760383800-1760389200@www.blauweboom.nl
SUMMARY:Djembè
DESCRIPTION:
URL:https://www.blauweboom.nl/event/djembe-7/
END:VEVENT
BEGIN:VEVENT
DTSTART;TZID=UTC:20251014T093000
DTEND;TZID=UTC:20251014T113000
DTSTAMP:20260421T162537
CREATED:20250624T114235Z
LAST-MODIFIED:20250624T114235Z
UID:7138-1760434200-1760441400@www.blauweboom.nl
SUMMARY:Samen Gezond
DESCRIPTION:
URL:https://www.blauweboom.nl/event/samen-gezond-54/
END:VEVENT
BEGIN:VEVENT
DTSTART;TZID=UTC:20251014T190000
DTEND;TZID=UTC:20251014T220000
DTSTAMP:20260421T162537
CREATED:20251030T102845Z
LAST-MODIFIED:20251030T102845Z
UID:7589-1760468400-1760479200@www.blauweboom.nl
SUMMARY:Straatgeluid
DESCRIPTION:
URL:https://www.blauweboom.nl/event/straatgeluid-95/
END:VEVENT
BEGIN:VEVENT
DTSTART;TZID=UTC:20251015T133000
DTEND;TZID=UTC:20251015T153000
DTSTAMP:20260421T162537
CREATED:20250624T115925Z
LAST-MODIFIED:20250624T115925Z
UID:7168-1760535000-1760542200@www.blauweboom.nl
SUMMARY:Teken en schilderclub
DESCRIPTION:
URL:https://www.blauweboom.nl/event/teken-en-schilderclub-4/
END:VEVENT
BEGIN:VEVENT
DTSTART;TZID=UTC:20251016T190000
DTEND;TZID=UTC:20251016T220000
DTSTAMP:20260421T162537
CREATED:20250805T131642Z
LAST-MODIFIED:20250805T131642Z
UID:7426-1760641200-1760652000@www.blauweboom.nl
SUMMARY:Straatgeluid
DESCRIPTION:
URL:https://www.blauweboom.nl/event/straatgeluid-110/
END:VEVENT
BEGIN:VEVENT
DTSTART;TZID=UTC:20251017T140000
DTEND;TZID=UTC:20251017T150000
DTSTAMP:20260421T162537
CREATED:20250627T184645Z
LAST-MODIFIED:20250627T184645Z
UID:7213-1760709600-1760713200@www.blauweboom.nl
SUMMARY:Sport Vitaal
DESCRIPTION:
URL:https://www.blauweboom.nl/event/sport-vitaal-40/
END:VEVENT
BEGIN:VEVENT
DTSTART;TZID=UTC:20251017T160000
DTEND;TZID=UTC:20251017T180000
DTSTAMP:20260421T162537
CREATED:20251101T090332Z
LAST-MODIFIED:20251101T090332Z
UID:7611-1760716800-1760724000@www.blauweboom.nl
SUMMARY:Straatgeluid
DESCRIPTION:
URL:https://www.blauweboom.nl/event/straatgeluid-129/
END:VEVENT
BEGIN:VEVENT
DTSTART;TZID=UTC:20251017T193000
DTEND;TZID=UTC:20251017T220000
DTSTAMP:20260421T162537
CREATED:20250913T185311Z
LAST-MODIFIED:20250913T185311Z
UID:7545-1760729400-1760738400@www.blauweboom.nl
SUMMARY:JOL
DESCRIPTION:
URL:https://www.blauweboom.nl/event/jol/
END:VEVENT
BEGIN:VEVENT
DTSTART;TZID=UTC:20251018T150000
DTEND;TZID=UTC:20251018T180000
DTSTAMP:20260421T162537
CREATED:20250928T171645Z
LAST-MODIFIED:20250928T171645Z
UID:7559-1760799600-1760810400@www.blauweboom.nl
SUMMARY:SP overleg
DESCRIPTION:
URL:https://www.blauweboom.nl/event/sp-overleg/
END:VEVENT
BEGIN:VEVENT
DTSTART;TZID=UTC:20251019T130000
DTEND;TZID=UTC:20251019T160000
DTSTAMP:20260421T162537
CREATED:20251005T193259Z
LAST-MODIFIED:20251005T193259Z
UID:7567-1760878800-1760889600@www.blauweboom.nl
SUMMARY:Gender reveal party Rolando
DESCRIPTION:
URL:https://www.blauweboom.nl/event/gender-reveal-party-rolando/
END:VEVENT
BEGIN:VEVENT
DTSTART;TZID=UTC:20251020T193000
DTEND;TZID=UTC:20251020T210000
DTSTAMP:20260421T162537
CREATED:20250805T122156Z
LAST-MODIFIED:20250805T122156Z
UID:7342-1760988600-1760994000@www.blauweboom.nl
SUMMARY:Djembè
DESCRIPTION:
URL:https://www.blauweboom.nl/event/djembe-8/
END:VEVENT
BEGIN:VEVENT
DTSTART;TZID=UTC:20251021T093000
DTEND;TZID=UTC:20251021T113000
DTSTAMP:20260421T162537
CREATED:20250624T114321Z
LAST-MODIFIED:20250624T114321Z
UID:7140-1761039000-1761046200@www.blauweboom.nl
SUMMARY:Samen Gezond
DESCRIPTION:
URL:https://www.blauweboom.nl/event/samen-gezond-55/
END:VEVENT
BEGIN:VEVENT
DTSTART;TZID=UTC:20251021T190000
DTEND;TZID=UTC:20251021T220000
DTSTAMP:20260421T162537
CREATED:20251030T102924Z
LAST-MODIFIED:20251030T102924Z
UID:7591-1761073200-1761084000@www.blauweboom.nl
SUMMARY:Straatgeluid
DESCRIPTION:
URL:https://www.blauweboom.nl/event/straatgeluid-96/
END:VEVENT
BEGIN:VEVENT
DTSTART;TZID=UTC:20251024T160000
DTEND;TZID=UTC:20251024T173000
DTSTAMP:20260421T162537
CREATED:20251101T090405Z
LAST-MODIFIED:20251101T090554Z
UID:7613-1761321600-1761327000@www.blauweboom.nl
SUMMARY:Straatgeluid
DESCRIPTION:
URL:https://www.blauweboom.nl/event/straatgeluid-130/
END:VEVENT
BEGIN:VEVENT
DTSTART;TZID=UTC:20251024T180000
DTEND;TZID=UTC:20251024T200000
DTSTAMP:20260421T162537
CREATED:20250509T103527Z
LAST-MODIFIED:20250509T103527Z
UID:7078-1761328800-1761336000@www.blauweboom.nl
SUMMARY:Samen Eten
DESCRIPTION:
URL:https://www.blauweboom.nl/event/samen-eten-8/
END:VEVENT
END:VCALENDAR