BEGIN:VCALENDAR
VERSION:2.0
PRODID:-// - ECPv6.15.20//NONSGML v1.0//EN
CALSCALE:GREGORIAN
METHOD:PUBLISH
X-ORIGINAL-URL:https://www.blauweboom.nl
X-WR-CALDESC:Evenementen voor 
REFRESH-INTERVAL;VALUE=DURATION:PT1H
X-Robots-Tag:noindex
X-PUBLISHED-TTL:PT1H
BEGIN:VTIMEZONE
TZID:UTC
BEGIN:STANDARD
TZOFFSETFROM:+0000
TZOFFSETTO:+0000
TZNAME:UTC
DTSTART:20240101T000000
END:STANDARD
END:VTIMEZONE
BEGIN:VEVENT
DTSTART;TZID=UTC:20251103T100000
DTEND;TZID=UTC:20251103T120000
DTSTAMP:20260421T143928
CREATED:20250805T182428Z
LAST-MODIFIED:20250828T144806Z
UID:7497-1762164000-1762171200@www.blauweboom.nl
SUMMARY:Buurtvrouwen
DESCRIPTION:
URL:https://www.blauweboom.nl/event/buurtvrouwen-13/
END:VEVENT
BEGIN:VEVENT
DTSTART;TZID=UTC:20251103T193000
DTEND;TZID=UTC:20251103T210000
DTSTAMP:20260421T143928
CREATED:20250805T122518Z
LAST-MODIFIED:20250805T122518Z
UID:7348-1762198200-1762203600@www.blauweboom.nl
SUMMARY:Djembè
DESCRIPTION:
URL:https://www.blauweboom.nl/event/djembe-9/
END:VEVENT
BEGIN:VEVENT
DTSTART;TZID=UTC:20251104T093000
DTEND;TZID=UTC:20251104T113000
DTSTAMP:20260421T143928
CREATED:20250624T114826Z
LAST-MODIFIED:20250624T114826Z
UID:7144-1762248600-1762255800@www.blauweboom.nl
SUMMARY:Samen Gezond
DESCRIPTION:
URL:https://www.blauweboom.nl/event/samen-gezond-57/
END:VEVENT
BEGIN:VEVENT
DTSTART;TZID=UTC:20251104T190000
DTEND;TZID=UTC:20251104T220000
DTSTAMP:20260421T143928
CREATED:20251030T103039Z
LAST-MODIFIED:20251030T103039Z
UID:7595-1762282800-1762293600@www.blauweboom.nl
SUMMARY:Straatgeluid
DESCRIPTION:
URL:https://www.blauweboom.nl/event/straatgeluid-98/
END:VEVENT
BEGIN:VEVENT
DTSTART;TZID=UTC:20251105T133000
DTEND;TZID=UTC:20251105T153000
DTSTAMP:20260421T143928
CREATED:20250624T120043Z
LAST-MODIFIED:20250624T120043Z
UID:7172-1762349400-1762356600@www.blauweboom.nl
SUMMARY:Teken en schilderclub
DESCRIPTION:
URL:https://www.blauweboom.nl/event/teken-en-schilderclub-6/
END:VEVENT
BEGIN:VEVENT
DTSTART;TZID=UTC:20251106T190000
DTEND;TZID=UTC:20251106T220000
DTSTAMP:20260421T143928
CREATED:20250805T131859Z
LAST-MODIFIED:20250805T131859Z
UID:7432-1762455600-1762466400@www.blauweboom.nl
SUMMARY:Straatgeluid
DESCRIPTION:
URL:https://www.blauweboom.nl/event/straatgeluid-113/
END:VEVENT
BEGIN:VEVENT
DTSTART;TZID=UTC:20251107T160000
DTEND;TZID=UTC:20251107T180000
DTSTAMP:20260421T143928
CREATED:20251101T090627Z
LAST-MODIFIED:20251101T090627Z
UID:7617-1762531200-1762538400@www.blauweboom.nl
SUMMARY:Straatgeluid
DESCRIPTION:
URL:https://www.blauweboom.nl/event/straatgeluid-132/
END:VEVENT
BEGIN:VEVENT
DTSTART;TZID=UTC:20251108T130000
DTEND;TZID=UTC:20251108T153000
DTSTAMP:20260421T143928
CREATED:20250624T121132Z
LAST-MODIFIED:20250624T121132Z
UID:7196-1762606800-1762615800@www.blauweboom.nl
SUMMARY:Repair Café
DESCRIPTION:
URL:https://www.blauweboom.nl/event/repair-cafe-3/
END:VEVENT
BEGIN:VEVENT
DTSTART;TZID=UTC:20251108T180000
DTEND;TZID=UTC:20251108T210000
DTSTAMP:20260421T143928
CREATED:20251029T145449Z
LAST-MODIFIED:20251109T174812Z
UID:7574-1762624800-1762635600@www.blauweboom.nl
SUMMARY:Feest mevr. Tuna
DESCRIPTION:
URL:https://www.blauweboom.nl/event/feest-mevr-tuna/
END:VEVENT
BEGIN:VEVENT
DTSTART;TZID=UTC:20251109T160000
DTEND;TZID=UTC:20251109T190000
DTSTAMP:20260421T143928
CREATED:20251022T092647Z
LAST-MODIFIED:20251022T092647Z
UID:7570-1762704000-1762714800@www.blauweboom.nl
SUMMARY:Verjaardag Nadja
DESCRIPTION:
URL:https://www.blauweboom.nl/event/verjaardag-nadja/
END:VEVENT
BEGIN:VEVENT
DTSTART;TZID=UTC:20251110T100000
DTEND;TZID=UTC:20251110T120000
DTSTAMP:20260421T143928
CREATED:20250805T182507Z
LAST-MODIFIED:20250828T145226Z
UID:7499-1762768800-1762776000@www.blauweboom.nl
SUMMARY:Buurtvrouwen
DESCRIPTION:
URL:https://www.blauweboom.nl/event/buurtvrouwen-14/
END:VEVENT
BEGIN:VEVENT
DTSTART;TZID=UTC:20251110T193000
DTEND;TZID=UTC:20251110T210000
DTSTAMP:20260421T143928
CREATED:20250805T122551Z
LAST-MODIFIED:20250805T122551Z
UID:7350-1762803000-1762808400@www.blauweboom.nl
SUMMARY:Djembè
DESCRIPTION:
URL:https://www.blauweboom.nl/event/djembe-11/
END:VEVENT
BEGIN:VEVENT
DTSTART;TZID=UTC:20251111T093000
DTEND;TZID=UTC:20251111T113000
DTSTAMP:20260421T143928
CREATED:20250624T114904Z
LAST-MODIFIED:20250624T114904Z
UID:7146-1762853400-1762860600@www.blauweboom.nl
SUMMARY:Samen Gezond
DESCRIPTION:
URL:https://www.blauweboom.nl/event/samen-gezond-58/
END:VEVENT
BEGIN:VEVENT
DTSTART;TZID=UTC:20251112T133000
DTEND;TZID=UTC:20251112T153000
DTSTAMP:20260421T143928
CREATED:20250624T120125Z
LAST-MODIFIED:20250624T120125Z
UID:7174-1762954200-1762961400@www.blauweboom.nl
SUMMARY:Teken en schilderclub
DESCRIPTION:
URL:https://www.blauweboom.nl/event/teken-en-schilderclub-7/
END:VEVENT
BEGIN:VEVENT
DTSTART;TZID=UTC:20251112T190000
DTEND;TZID=UTC:20251112T220000
DTSTAMP:20260421T143928
CREATED:20250805T130253Z
LAST-MODIFIED:20250805T130253Z
UID:7402-1762974000-1762984800@www.blauweboom.nl
SUMMARY:Straatgeluid
DESCRIPTION:
URL:https://www.blauweboom.nl/event/straatgeluid-92/
END:VEVENT
BEGIN:VEVENT
DTSTART;TZID=UTC:20251113T190000
DTEND;TZID=UTC:20251113T220000
DTSTAMP:20260421T143928
CREATED:20250805T131931Z
LAST-MODIFIED:20250805T131931Z
UID:7434-1763060400-1763071200@www.blauweboom.nl
SUMMARY:Straatgeluid
DESCRIPTION:
URL:https://www.blauweboom.nl/event/straatgeluid-114/
END:VEVENT
BEGIN:VEVENT
DTSTART;TZID=UTC:20251114T140000
DTEND;TZID=UTC:20251114T150000
DTSTAMP:20260421T143928
CREATED:20250627T184910Z
LAST-MODIFIED:20250627T184910Z
UID:7219-1763128800-1763132400@www.blauweboom.nl
SUMMARY:Sport Vitaal
DESCRIPTION:
URL:https://www.blauweboom.nl/event/sport-vitaal-43/
END:VEVENT
BEGIN:VEVENT
DTSTART;TZID=UTC:20251114T160000
DTEND;TZID=UTC:20251114T180000
DTSTAMP:20260421T143928
CREATED:20250805T133728Z
LAST-MODIFIED:20250805T133728Z
UID:7481-1763136000-1763143200@www.blauweboom.nl
SUMMARY:Straatgeluid
DESCRIPTION:
URL:https://www.blauweboom.nl/event/straatgeluid-137/
END:VEVENT
BEGIN:VEVENT
DTSTART;TZID=UTC:20251114T180000
DTEND;TZID=UTC:20251114T233000
DTSTAMP:20260421T143928
CREATED:20251113T162534Z
LAST-MODIFIED:20251113T204547Z
UID:7629-1763143200-1763163000@www.blauweboom.nl
SUMMARY:Meiden avond Fina Korma
DESCRIPTION:
URL:https://www.blauweboom.nl/event/meiden-avond-fina-korma/
END:VEVENT
BEGIN:VEVENT
DTSTART;TZID=UTC:20251116T150000
DTEND;TZID=UTC:20251116T200000
DTSTAMP:20260421T143928
CREATED:20251105T132702Z
LAST-MODIFIED:20251105T132702Z
UID:7619-1763305200-1763323200@www.blauweboom.nl
SUMMARY:Feest Khalid Chouta
DESCRIPTION:
URL:https://www.blauweboom.nl/event/feest-khalid-chouta/
END:VEVENT
BEGIN:VEVENT
DTSTART;TZID=UTC:20251117T100000
DTEND;TZID=UTC:20251117T120000
DTSTAMP:20260421T143928
CREATED:20250805T183127Z
LAST-MODIFIED:20250828T145314Z
UID:7512-1763373600-1763380800@www.blauweboom.nl
SUMMARY:Buurtvrouwen
DESCRIPTION:
URL:https://www.blauweboom.nl/event/buurtvrouwen-37/
END:VEVENT
BEGIN:VEVENT
DTSTART;TZID=UTC:20251117T193000
DTEND;TZID=UTC:20251117T210000
DTSTAMP:20260421T143928
CREATED:20250805T122624Z
LAST-MODIFIED:20250805T122624Z
UID:7352-1763407800-1763413200@www.blauweboom.nl
SUMMARY:Djembè
DESCRIPTION:
URL:https://www.blauweboom.nl/event/djembe-12/
END:VEVENT
BEGIN:VEVENT
DTSTART;TZID=UTC:20251118T093000
DTEND;TZID=UTC:20251118T113000
DTSTAMP:20260421T143928
CREATED:20250624T114936Z
LAST-MODIFIED:20250624T114936Z
UID:7148-1763458200-1763465400@www.blauweboom.nl
SUMMARY:Samen Gezond
DESCRIPTION:
URL:https://www.blauweboom.nl/event/samen-gezond-59/
END:VEVENT
BEGIN:VEVENT
DTSTART;TZID=UTC:20251119T133000
DTEND;TZID=UTC:20251119T153000
DTSTAMP:20260421T143928
CREATED:20250624T120207Z
LAST-MODIFIED:20250624T120207Z
UID:7176-1763559000-1763566200@www.blauweboom.nl
SUMMARY:Teken en schilderclub
DESCRIPTION:
URL:https://www.blauweboom.nl/event/teken-en-schilderclub-8/
END:VEVENT
BEGIN:VEVENT
DTSTART;TZID=UTC:20251119T190000
DTEND;TZID=UTC:20251119T220000
DTSTAMP:20260421T143928
CREATED:20250805T130339Z
LAST-MODIFIED:20250805T130339Z
UID:7404-1763578800-1763589600@www.blauweboom.nl
SUMMARY:Straatgeluid
DESCRIPTION:
URL:https://www.blauweboom.nl/event/straatgeluid-100/
END:VEVENT
BEGIN:VEVENT
DTSTART;TZID=UTC:20251120T190000
DTEND;TZID=UTC:20251120T220000
DTSTAMP:20260421T143928
CREATED:20250805T132003Z
LAST-MODIFIED:20250805T132003Z
UID:7436-1763665200-1763676000@www.blauweboom.nl
SUMMARY:Straatgeluid
DESCRIPTION:
URL:https://www.blauweboom.nl/event/straatgeluid-115/
END:VEVENT
BEGIN:VEVENT
DTSTART;TZID=UTC:20251121T140000
DTEND;TZID=UTC:20251121T150000
DTSTAMP:20260421T143928
CREATED:20250627T184942Z
LAST-MODIFIED:20250627T184942Z
UID:7221-1763733600-1763737200@www.blauweboom.nl
SUMMARY:Sport Vitaal
DESCRIPTION:
URL:https://www.blauweboom.nl/event/sport-vitaal-44/
END:VEVENT
BEGIN:VEVENT
DTSTART;TZID=UTC:20251121T160000
DTEND;TZID=UTC:20251121T173000
DTSTAMP:20260421T143928
CREATED:20250805T133757Z
LAST-MODIFIED:20250805T134202Z
UID:7483-1763740800-1763746200@www.blauweboom.nl
SUMMARY:Straatgeluid
DESCRIPTION:
URL:https://www.blauweboom.nl/event/straatgeluid-138/
END:VEVENT
BEGIN:VEVENT
DTSTART;TZID=UTC:20251121T180000
DTEND;TZID=UTC:20251121T200000
DTSTAMP:20260421T143928
CREATED:20250509T103610Z
LAST-MODIFIED:20250509T103610Z
UID:7080-1763748000-1763755200@www.blauweboom.nl
SUMMARY:Samen Eten
DESCRIPTION:
URL:https://www.blauweboom.nl/event/samen-eten-9/
END:VEVENT
BEGIN:VEVENT
DTSTART;TZID=UTC:20251123T140000
DTEND;TZID=UTC:20251123T160000
DTSTAMP:20260421T143928
CREATED:20250509T103311Z
LAST-MODIFIED:20250509T103311Z
UID:7072-1763906400-1763913600@www.blauweboom.nl
SUMMARY:Filmclub
DESCRIPTION:
URL:https://www.blauweboom.nl/event/filmclub-5/
END:VEVENT
END:VCALENDAR