BEGIN:VCALENDAR
VERSION:2.0
PRODID:-// - ECPv6.15.20//NONSGML v1.0//EN
CALSCALE:GREGORIAN
METHOD:PUBLISH
X-ORIGINAL-URL:https://www.blauweboom.nl
X-WR-CALDESC:Evenementen voor 
REFRESH-INTERVAL;VALUE=DURATION:PT1H
X-Robots-Tag:noindex
X-PUBLISHED-TTL:PT1H
BEGIN:VTIMEZONE
TZID:UTC
BEGIN:STANDARD
TZOFFSETFROM:+0000
TZOFFSETTO:+0000
TZNAME:UTC
DTSTART:20250101T000000
END:STANDARD
END:VTIMEZONE
BEGIN:VEVENT
DTSTART;TZID=UTC:20260102T160000
DTEND;TZID=UTC:20260102T180000
DTSTAMP:20260421T105113
CREATED:20251220T155139Z
LAST-MODIFIED:20251220T155139Z
UID:7779-1767369600-1767376800@www.blauweboom.nl
SUMMARY:Straatgeluid
DESCRIPTION:
URL:https://www.blauweboom.nl/event/straatgeluid-189/
END:VEVENT
BEGIN:VEVENT
DTSTART;TZID=UTC:20260103T130000
DTEND;TZID=UTC:20260103T180000
DTSTAMP:20260421T105113
CREATED:20251125T202302Z
LAST-MODIFIED:20251125T202302Z
UID:7658-1767445200-1767463200@www.blauweboom.nl
SUMMARY:Kinderverjaardag Jamila
DESCRIPTION:
URL:https://www.blauweboom.nl/event/kinderverjaardag-jamila/
END:VEVENT
BEGIN:VEVENT
DTSTART;TZID=UTC:20260106T093000
DTEND;TZID=UTC:20260106T113000
DTSTAMP:20260421T105113
CREATED:20251220T162217Z
LAST-MODIFIED:20251220T162217Z
UID:7840-1767691800-1767699000@www.blauweboom.nl
SUMMARY:Samen gezond
DESCRIPTION:
URL:https://www.blauweboom.nl/event/samen-gezond/
END:VEVENT
BEGIN:VEVENT
DTSTART;TZID=UTC:20260107T190000
DTEND;TZID=UTC:20260107T220000
DTSTAMP:20260421T105113
CREATED:20251217T202816Z
LAST-MODIFIED:20251217T202816Z
UID:7664-1767812400-1767823200@www.blauweboom.nl
SUMMARY:Straatgeluid
DESCRIPTION:
URL:https://www.blauweboom.nl/event/straatgeluid-103/
END:VEVENT
BEGIN:VEVENT
DTSTART;TZID=UTC:20260108T190000
DTEND;TZID=UTC:20260108T220000
DTSTAMP:20260421T105113
CREATED:20251217T204945Z
LAST-MODIFIED:20251217T204945Z
UID:7716-1767898800-1767909600@www.blauweboom.nl
SUMMARY:Straatgeluid
DESCRIPTION:
URL:https://www.blauweboom.nl/event/straatgeluid-163/
END:VEVENT
BEGIN:VEVENT
DTSTART;TZID=UTC:20260109T140000
DTEND;TZID=UTC:20260109T150000
DTSTAMP:20260421T105113
CREATED:20250627T190733Z
LAST-MODIFIED:20250627T190733Z
UID:7233-1767967200-1767970800@www.blauweboom.nl
SUMMARY:Sport Vitaal
DESCRIPTION:
URL:https://www.blauweboom.nl/event/sport-vitaal-50/
END:VEVENT
BEGIN:VEVENT
DTSTART;TZID=UTC:20260109T160000
DTEND;TZID=UTC:20260109T180000
DTSTAMP:20260421T105113
CREATED:20251220T155207Z
LAST-MODIFIED:20251220T155207Z
UID:7781-1767974400-1767981600@www.blauweboom.nl
SUMMARY:Straatgeluid
DESCRIPTION:
URL:https://www.blauweboom.nl/event/straatgeluid-190/
END:VEVENT
BEGIN:VEVENT
DTSTART;TZID=UTC:20260110T130000
DTEND;TZID=UTC:20260110T153000
DTSTAMP:20260421T105113
CREATED:20251120T183428Z
LAST-MODIFIED:20251120T183428Z
UID:7635-1768050000-1768059000@www.blauweboom.nl
SUMMARY:Repair Cafè
DESCRIPTION:
URL:https://www.blauweboom.nl/event/repair-cafe-4/
END:VEVENT
BEGIN:VEVENT
DTSTART;TZID=UTC:20260112T100000
DTEND;TZID=UTC:20260112T120000
DTSTAMP:20260421T105113
CREATED:20251222T214910Z
LAST-MODIFIED:20251222T214910Z
UID:7935-1768212000-1768219200@www.blauweboom.nl
SUMMARY:Buurtvrouwen
DESCRIPTION:
URL:https://www.blauweboom.nl/event/buurtvrouwen-15/
END:VEVENT
BEGIN:VEVENT
DTSTART;TZID=UTC:20260113T093000
DTEND;TZID=UTC:20260113T113000
DTSTAMP:20260421T105113
CREATED:20251222T211917Z
LAST-MODIFIED:20251222T211917Z
UID:7869-1768296600-1768303800@www.blauweboom.nl
SUMMARY:Samen gezond
DESCRIPTION:
URL:https://www.blauweboom.nl/event/samen-gezond-2/
END:VEVENT
BEGIN:VEVENT
DTSTART;TZID=UTC:20260114T133000
DTEND;TZID=UTC:20260114T153000
DTSTAMP:20260421T105113
CREATED:20260103T220806Z
LAST-MODIFIED:20260103T220806Z
UID:7990-1768397400-1768404600@www.blauweboom.nl
SUMMARY:Teken en schilderclub
DESCRIPTION:
URL:https://www.blauweboom.nl/event/teken-en-schilderclub-10/
END:VEVENT
BEGIN:VEVENT
DTSTART;TZID=UTC:20260114T190000
DTEND;TZID=UTC:20260114T220000
DTSTAMP:20260421T105113
CREATED:20251217T202848Z
LAST-MODIFIED:20251217T202848Z
UID:7666-1768417200-1768428000@www.blauweboom.nl
SUMMARY:Straatgeluid
DESCRIPTION:
URL:https://www.blauweboom.nl/event/straatgeluid-133/
END:VEVENT
BEGIN:VEVENT
DTSTART;TZID=UTC:20260115T190000
DTEND;TZID=UTC:20260115T220000
DTSTAMP:20260421T105113
CREATED:20251217T205013Z
LAST-MODIFIED:20251217T205013Z
UID:7718-1768503600-1768514400@www.blauweboom.nl
SUMMARY:Straatgeluid
DESCRIPTION:
URL:https://www.blauweboom.nl/event/straatgeluid-164/
END:VEVENT
BEGIN:VEVENT
DTSTART;TZID=UTC:20260116T140000
DTEND;TZID=UTC:20260116T150000
DTSTAMP:20260421T105113
CREATED:20250627T190835Z
LAST-MODIFIED:20250627T190835Z
UID:7235-1768572000-1768575600@www.blauweboom.nl
SUMMARY:Sport Vitaal
DESCRIPTION:
URL:https://www.blauweboom.nl/event/sport-vitaal-49/
END:VEVENT
BEGIN:VEVENT
DTSTART;TZID=UTC:20260116T160000
DTEND;TZID=UTC:20260116T180000
DTSTAMP:20260421T105113
CREATED:20251220T155234Z
LAST-MODIFIED:20251220T155234Z
UID:7783-1768579200-1768586400@www.blauweboom.nl
SUMMARY:Straatgeluid
DESCRIPTION:
URL:https://www.blauweboom.nl/event/straatgeluid-191/
END:VEVENT
BEGIN:VEVENT
DTSTART;TZID=UTC:20260117T133000
DTEND;TZID=UTC:20260117T160000
DTSTAMP:20260421T105113
CREATED:20260112T150515Z
LAST-MODIFIED:20260112T150515Z
UID:8016-1768656600-1768665600@www.blauweboom.nl
SUMMARY:Schietvereniging Heiloo
DESCRIPTION:
URL:https://www.blauweboom.nl/event/schietvereniging-heiloo/
END:VEVENT
BEGIN:VEVENT
DTSTART;TZID=UTC:20260118T150000
DTEND;TZID=UTC:20260118T193000
DTSTAMP:20260421T105113
CREATED:20251003T100953Z
LAST-MODIFIED:20260118T135727Z
UID:7565-1768748400-1768764600@www.blauweboom.nl
SUMMARY:Ladies United Wissal
DESCRIPTION:
URL:https://www.blauweboom.nl/event/ladies-united-wissal-2/
END:VEVENT
BEGIN:VEVENT
DTSTART;TZID=UTC:20260119T100000
DTEND;TZID=UTC:20260119T120000
DTSTAMP:20260421T105113
CREATED:20251222T214940Z
LAST-MODIFIED:20251222T214940Z
UID:7937-1768816800-1768824000@www.blauweboom.nl
SUMMARY:Buurtvrouwen
DESCRIPTION:
URL:https://www.blauweboom.nl/event/buurtvrouwen-21/
END:VEVENT
BEGIN:VEVENT
DTSTART;TZID=UTC:20260120T093000
DTEND;TZID=UTC:20260120T113000
DTSTAMP:20260421T105113
CREATED:20251222T211949Z
LAST-MODIFIED:20251222T211949Z
UID:7871-1768901400-1768908600@www.blauweboom.nl
SUMMARY:Samen gezond
DESCRIPTION:
URL:https://www.blauweboom.nl/event/samen-gezond-3/
END:VEVENT
BEGIN:VEVENT
DTSTART;TZID=UTC:20260121T133000
DTEND;TZID=UTC:20260121T153000
DTSTAMP:20260421T105113
CREATED:20260103T220912Z
LAST-MODIFIED:20260103T220912Z
UID:7992-1769002200-1769009400@www.blauweboom.nl
SUMMARY:Teken en schilderclub
DESCRIPTION:
URL:https://www.blauweboom.nl/event/teken-en-schilderclub-11/
END:VEVENT
BEGIN:VEVENT
DTSTART;TZID=UTC:20260121T190000
DTEND;TZID=UTC:20260121T220000
DTSTAMP:20260421T105113
CREATED:20251217T202921Z
LAST-MODIFIED:20251217T202921Z
UID:7668-1769022000-1769032800@www.blauweboom.nl
SUMMARY:Straatgeluid
DESCRIPTION:
URL:https://www.blauweboom.nl/event/straatgeluid-134/
END:VEVENT
BEGIN:VEVENT
DTSTART;TZID=UTC:20260122T190000
DTEND;TZID=UTC:20260122T220000
DTSTAMP:20260421T105113
CREATED:20251217T205044Z
LAST-MODIFIED:20251217T205044Z
UID:7720-1769108400-1769119200@www.blauweboom.nl
SUMMARY:Straatgeluid
DESCRIPTION:
URL:https://www.blauweboom.nl/event/straatgeluid-165/
END:VEVENT
BEGIN:VEVENT
DTSTART;TZID=UTC:20260123T140000
DTEND;TZID=UTC:20260123T150000
DTSTAMP:20260421T105113
CREATED:20250627T190922Z
LAST-MODIFIED:20250627T190922Z
UID:7237-1769176800-1769180400@www.blauweboom.nl
SUMMARY:Sport Vitaal
DESCRIPTION:
URL:https://www.blauweboom.nl/event/sport-vitaal-51/
END:VEVENT
BEGIN:VEVENT
DTSTART;TZID=UTC:20260123T160000
DTEND;TZID=UTC:20260123T173000
DTSTAMP:20260421T105113
CREATED:20251220T155303Z
LAST-MODIFIED:20251220T155303Z
UID:7785-1769184000-1769189400@www.blauweboom.nl
SUMMARY:Straatgeluid
DESCRIPTION:
URL:https://www.blauweboom.nl/event/straatgeluid-192/
END:VEVENT
BEGIN:VEVENT
DTSTART;TZID=UTC:20260123T180000
DTEND;TZID=UTC:20260123T200000
DTSTAMP:20260421T105113
CREATED:20251220T150936Z
LAST-MODIFIED:20251220T151117Z
UID:7740-1769191200-1769198400@www.blauweboom.nl
SUMMARY:Samen eten
DESCRIPTION:
URL:https://www.blauweboom.nl/event/samen-eten/
END:VEVENT
BEGIN:VEVENT
DTSTART;TZID=UTC:20260125T140000
DTEND;TZID=UTC:20260125T160000
DTSTAMP:20260421T105113
CREATED:20251120T183845Z
LAST-MODIFIED:20251120T183845Z
UID:7647-1769349600-1769356800@www.blauweboom.nl
SUMMARY:Filmclub
DESCRIPTION:
URL:https://www.blauweboom.nl/event/filmclub/
END:VEVENT
BEGIN:VEVENT
DTSTART;TZID=UTC:20260126T100000
DTEND;TZID=UTC:20260126T120000
DTSTAMP:20260421T105113
CREATED:20251222T215009Z
LAST-MODIFIED:20251222T215009Z
UID:7939-1769421600-1769428800@www.blauweboom.nl
SUMMARY:Buurtvrouwen
DESCRIPTION:
URL:https://www.blauweboom.nl/event/buurtvrouwen-22/
END:VEVENT
BEGIN:VEVENT
DTSTART;TZID=UTC:20260127T093000
DTEND;TZID=UTC:20260127T113000
DTSTAMP:20260421T105113
CREATED:20251222T212033Z
LAST-MODIFIED:20251222T212033Z
UID:7873-1769506200-1769513400@www.blauweboom.nl
SUMMARY:Samen gezond
DESCRIPTION:
URL:https://www.blauweboom.nl/event/samen-gezond-4/
END:VEVENT
BEGIN:VEVENT
DTSTART;TZID=UTC:20260128T133000
DTEND;TZID=UTC:20260128T153000
DTSTAMP:20260421T105113
CREATED:20260103T220955Z
LAST-MODIFIED:20260103T220955Z
UID:7994-1769607000-1769614200@www.blauweboom.nl
SUMMARY:Teken en schilderclub
DESCRIPTION:
URL:https://www.blauweboom.nl/event/teken-en-schilderclub-12/
END:VEVENT
BEGIN:VEVENT
DTSTART;TZID=UTC:20260128T160000
DTEND;TZID=UTC:20260128T170000
DTSTAMP:20260421T105113
CREATED:20251222T214229Z
LAST-MODIFIED:20251222T214229Z
UID:7921-1769616000-1769619600@www.blauweboom.nl
SUMMARY:SP Hulpdienst
DESCRIPTION:
URL:https://www.blauweboom.nl/event/sp-hulpdienst-8/
END:VEVENT
END:VCALENDAR