BEGIN:VCALENDAR
VERSION:2.0
PRODID:-// - ECPv6.15.20//NONSGML v1.0//EN
CALSCALE:GREGORIAN
METHOD:PUBLISH
X-ORIGINAL-URL:https://www.blauweboom.nl
X-WR-CALDESC:Evenementen voor 
REFRESH-INTERVAL;VALUE=DURATION:PT1H
X-Robots-Tag:noindex
X-PUBLISHED-TTL:PT1H
BEGIN:VTIMEZONE
TZID:UTC
BEGIN:STANDARD
TZOFFSETFROM:+0000
TZOFFSETTO:+0000
TZNAME:UTC
DTSTART:20250101T000000
END:STANDARD
END:VTIMEZONE
BEGIN:VEVENT
DTSTART;TZID=UTC:20260302T100000
DTEND;TZID=UTC:20260302T120000
DTSTAMP:20260421T105111
CREATED:20251222T215247Z
LAST-MODIFIED:20251222T215247Z
UID:7949-1772445600-1772452800@www.blauweboom.nl
SUMMARY:Buurtvrouwen
DESCRIPTION:
URL:https://www.blauweboom.nl/event/buurtvrouwen-27/
END:VEVENT
BEGIN:VEVENT
DTSTART;TZID=UTC:20260302T193000
DTEND;TZID=UTC:20260302T210000
DTSTAMP:20260421T105111
CREATED:20260202T172545Z
LAST-MODIFIED:20260202T172545Z
UID:8064-1772479800-1772485200@www.blauweboom.nl
SUMMARY:Djembè
DESCRIPTION:
URL:https://www.blauweboom.nl/event/djembe-19/
END:VEVENT
BEGIN:VEVENT
DTSTART;TZID=UTC:20260303T093000
DTEND;TZID=UTC:20260303T113000
DTSTAMP:20260421T105111
CREATED:20251222T212358Z
LAST-MODIFIED:20251222T212358Z
UID:7885-1772530200-1772537400@www.blauweboom.nl
SUMMARY:Samen gezond
DESCRIPTION:
URL:https://www.blauweboom.nl/event/samen-gezond-11/
END:VEVENT
BEGIN:VEVENT
DTSTART;TZID=UTC:20260304T133000
DTEND;TZID=UTC:20260304T153000
DTSTAMP:20260421T105111
CREATED:20260103T221318Z
LAST-MODIFIED:20260103T221318Z
UID:8002-1772631000-1772638200@www.blauweboom.nl
SUMMARY:Teken en schilderclub
DESCRIPTION:
URL:https://www.blauweboom.nl/event/teken-en-schilderclub-18/
END:VEVENT
BEGIN:VEVENT
DTSTART;TZID=UTC:20260304T190000
DTEND;TZID=UTC:20260304T220000
DTSTAMP:20260421T105111
CREATED:20251217T203248Z
LAST-MODIFIED:20251217T203248Z
UID:7680-1772650800-1772661600@www.blauweboom.nl
SUMMARY:Straatgeluid
DESCRIPTION:
URL:https://www.blauweboom.nl/event/straatgeluid-146/
END:VEVENT
BEGIN:VEVENT
DTSTART;TZID=UTC:20260305T190000
DTEND;TZID=UTC:20260305T220000
DTSTAMP:20260421T105111
CREATED:20251217T205439Z
LAST-MODIFIED:20251217T205439Z
UID:7732-1772737200-1772748000@www.blauweboom.nl
SUMMARY:Straatgeluid
DESCRIPTION:
URL:https://www.blauweboom.nl/event/straatgeluid-171/
END:VEVENT
BEGIN:VEVENT
DTSTART;TZID=UTC:20260306T140000
DTEND;TZID=UTC:20260306T150000
DTSTAMP:20260421T105111
CREATED:20250627T191248Z
LAST-MODIFIED:20250627T191248Z
UID:7247-1772805600-1772809200@www.blauweboom.nl
SUMMARY:Sport Vitaal
DESCRIPTION:
URL:https://www.blauweboom.nl/event/sport-vitaal-56/
END:VEVENT
BEGIN:VEVENT
DTSTART;TZID=UTC:20260306T160000
DTEND;TZID=UTC:20260306T180000
DTSTAMP:20260421T105111
CREATED:20251220T160228Z
LAST-MODIFIED:20251220T160228Z
UID:7802-1772812800-1772820000@www.blauweboom.nl
SUMMARY:Straatgeluid
DESCRIPTION:
URL:https://www.blauweboom.nl/event/straatgeluid-198/
END:VEVENT
BEGIN:VEVENT
DTSTART;TZID=UTC:20260309T100000
DTEND;TZID=UTC:20260309T120000
DTSTAMP:20260421T105111
CREATED:20251222T215532Z
LAST-MODIFIED:20251222T215532Z
UID:7951-1773050400-1773057600@www.blauweboom.nl
SUMMARY:Buurtvrouwen
DESCRIPTION:
URL:https://www.blauweboom.nl/event/buurtvrouwen-26/
END:VEVENT
BEGIN:VEVENT
DTSTART;TZID=UTC:20260309T193000
DTEND;TZID=UTC:20260309T210000
DTSTAMP:20260421T105111
CREATED:20260202T172619Z
LAST-MODIFIED:20260202T172619Z
UID:8066-1773084600-1773090000@www.blauweboom.nl
SUMMARY:Djembè
DESCRIPTION:
URL:https://www.blauweboom.nl/event/djembe-20/
END:VEVENT
BEGIN:VEVENT
DTSTART;TZID=UTC:20260310T093000
DTEND;TZID=UTC:20260310T113000
DTSTAMP:20260421T105111
CREATED:20251222T212430Z
LAST-MODIFIED:20251222T212430Z
UID:7887-1773135000-1773142200@www.blauweboom.nl
SUMMARY:Samen gezond
DESCRIPTION:
URL:https://www.blauweboom.nl/event/samen-gezond-14/
END:VEVENT
BEGIN:VEVENT
DTSTART;TZID=UTC:20260311T133000
DTEND;TZID=UTC:20260311T153000
DTSTAMP:20260421T105111
CREATED:20260103T221355Z
LAST-MODIFIED:20260103T221355Z
UID:8004-1773235800-1773243000@www.blauweboom.nl
SUMMARY:Teken en schilderclub
DESCRIPTION:
URL:https://www.blauweboom.nl/event/teken-en-schilderclub-19/
END:VEVENT
BEGIN:VEVENT
DTSTART;TZID=UTC:20260311T190000
DTEND;TZID=UTC:20260311T220000
DTSTAMP:20260421T105111
CREATED:20251217T203323Z
LAST-MODIFIED:20251217T203323Z
UID:7682-1773255600-1773266400@www.blauweboom.nl
SUMMARY:Straatgeluid
DESCRIPTION:
URL:https://www.blauweboom.nl/event/straatgeluid-147/
END:VEVENT
BEGIN:VEVENT
DTSTART;TZID=UTC:20260312T190000
DTEND;TZID=UTC:20260312T220000
DTSTAMP:20260421T105111
CREATED:20251217T205537Z
LAST-MODIFIED:20251217T205537Z
UID:7734-1773342000-1773352800@www.blauweboom.nl
SUMMARY:Straatgeluid
DESCRIPTION:
URL:https://www.blauweboom.nl/event/straatgeluid-172/
END:VEVENT
BEGIN:VEVENT
DTSTART;TZID=UTC:20260313T140000
DTEND;TZID=UTC:20260313T150000
DTSTAMP:20260421T105111
CREATED:20250627T191327Z
LAST-MODIFIED:20250627T191327Z
UID:7249-1773410400-1773414000@www.blauweboom.nl
SUMMARY:Sport Vitaal
DESCRIPTION:
URL:https://www.blauweboom.nl/event/sport-vitaal-57/
END:VEVENT
BEGIN:VEVENT
DTSTART;TZID=UTC:20260313T160000
DTEND;TZID=UTC:20260313T180000
DTSTAMP:20260421T105111
CREATED:20251220T160512Z
LAST-MODIFIED:20251220T160512Z
UID:7812-1773417600-1773424800@www.blauweboom.nl
SUMMARY:Straatgeluid
DESCRIPTION:
URL:https://www.blauweboom.nl/event/straatgeluid-203/
END:VEVENT
BEGIN:VEVENT
DTSTART;TZID=UTC:20260313T193000
DTEND;TZID=UTC:20260313T220000
DTSTAMP:20260421T105111
CREATED:20260209T175924Z
LAST-MODIFIED:20260209T175924Z
UID:8116-1773430200-1773439200@www.blauweboom.nl
SUMMARY:JOL vergadering
DESCRIPTION:
URL:https://www.blauweboom.nl/event/jol-vergadering/
END:VEVENT
BEGIN:VEVENT
DTSTART;TZID=UTC:20260314T130000
DTEND;TZID=UTC:20260314T153000
DTSTAMP:20260421T105111
CREATED:20251120T183548Z
LAST-MODIFIED:20251120T183548Z
UID:7639-1773493200-1773502200@www.blauweboom.nl
SUMMARY:Repair Cafè
DESCRIPTION:
URL:https://www.blauweboom.nl/event/repair-cafe-7/
END:VEVENT
BEGIN:VEVENT
DTSTART;TZID=UTC:20260315T120000
DTEND;TZID=UTC:20260315T160000
DTSTAMP:20260421T105111
CREATED:20260205T125231Z
LAST-MODIFIED:20260205T125231Z
UID:8104-1773576000-1773590400@www.blauweboom.nl
SUMMARY:Kinderverjaardag Taylor
DESCRIPTION:
URL:https://www.blauweboom.nl/event/kinderverjaardag-taylor/
END:VEVENT
BEGIN:VEVENT
DTSTART;TZID=UTC:20260315T180000
DTEND;TZID=UTC:20260315T220000
DTSTAMP:20260421T105111
CREATED:20260315T114011Z
LAST-MODIFIED:20260315T114011Z
UID:8184-1773597600-1773612000@www.blauweboom.nl
SUMMARY:IFTAR maaltijd
DESCRIPTION:
URL:https://www.blauweboom.nl/event/iftar-maaltijd/
END:VEVENT
BEGIN:VEVENT
DTSTART;TZID=UTC:20260316T100000
DTEND;TZID=UTC:20260316T120000
DTSTAMP:20260421T105111
CREATED:20251222T215611Z
LAST-MODIFIED:20251222T215611Z
UID:7953-1773655200-1773662400@www.blauweboom.nl
SUMMARY:Buurtvrouwen
DESCRIPTION:
URL:https://www.blauweboom.nl/event/buurtvrouwen-28/
END:VEVENT
BEGIN:VEVENT
DTSTART;TZID=UTC:20260316T193000
DTEND;TZID=UTC:20260316T210000
DTSTAMP:20260421T105111
CREATED:20260202T172656Z
LAST-MODIFIED:20260202T172656Z
UID:8068-1773689400-1773694800@www.blauweboom.nl
SUMMARY:Djembè
DESCRIPTION:
URL:https://www.blauweboom.nl/event/djembe-21/
END:VEVENT
BEGIN:VEVENT
DTSTART;TZID=UTC:20260317T093000
DTEND;TZID=UTC:20260317T113000
DTSTAMP:20260421T105111
CREATED:20251222T212500Z
LAST-MODIFIED:20251222T212500Z
UID:7889-1773739800-1773747000@www.blauweboom.nl
SUMMARY:Samen gezond
DESCRIPTION:
URL:https://www.blauweboom.nl/event/samen-gezond-15/
END:VEVENT
BEGIN:VEVENT
DTSTART;TZID=UTC:20260317T200000
DTEND;TZID=UTC:20260317T213000
DTSTAMP:20260421T105111
CREATED:20260318T092241Z
LAST-MODIFIED:20260325T163833Z
UID:8198-1773777600-1773783000@www.blauweboom.nl
SUMMARY:HITT training
DESCRIPTION:
URL:https://www.blauweboom.nl/event/fitness-training-daniel/
END:VEVENT
BEGIN:VEVENT
DTSTART;TZID=UTC:20260318T133000
DTEND;TZID=UTC:20260318T153000
DTSTAMP:20260421T105111
CREATED:20260103T221451Z
LAST-MODIFIED:20260103T221451Z
UID:8006-1773840600-1773847800@www.blauweboom.nl
SUMMARY:Teken en schilderclub
DESCRIPTION:
URL:https://www.blauweboom.nl/event/teken-en-schilderclub-21/
END:VEVENT
BEGIN:VEVENT
DTSTART;TZID=UTC:20260318T190000
DTEND;TZID=UTC:20260318T220000
DTSTAMP:20260421T105111
CREATED:20251217T203359Z
LAST-MODIFIED:20251217T203359Z
UID:7684-1773860400-1773871200@www.blauweboom.nl
SUMMARY:Straatgeluid
DESCRIPTION:
URL:https://www.blauweboom.nl/event/straatgeluid-148/
END:VEVENT
BEGIN:VEVENT
DTSTART;TZID=UTC:20260319T190000
DTEND;TZID=UTC:20260319T220000
DTSTAMP:20260421T105111
CREATED:20251217T205617Z
LAST-MODIFIED:20251217T205617Z
UID:7736-1773946800-1773957600@www.blauweboom.nl
SUMMARY:Straatgeluid
DESCRIPTION:
URL:https://www.blauweboom.nl/event/straatgeluid-173/
END:VEVENT
BEGIN:VEVENT
DTSTART;TZID=UTC:20260320T090000
DTEND;TZID=UTC:20260320T120000
DTSTAMP:20260421T105111
CREATED:20251223T204823Z
LAST-MODIFIED:20251223T204823Z
UID:7987-1773997200-1774008000@www.blauweboom.nl
SUMMARY:Funda verhuur
DESCRIPTION:
URL:https://www.blauweboom.nl/event/funda-verhuur/
END:VEVENT
BEGIN:VEVENT
DTSTART;TZID=UTC:20260320T160000
DTEND;TZID=UTC:20260320T173000
DTSTAMP:20260421T105111
CREATED:20251220T160324Z
LAST-MODIFIED:20251220T160725Z
UID:7806-1774022400-1774027800@www.blauweboom.nl
SUMMARY:Straatgeluid
DESCRIPTION:
URL:https://www.blauweboom.nl/event/straatgeluid-200/
END:VEVENT
BEGIN:VEVENT
DTSTART;TZID=UTC:20260320T180000
DTEND;TZID=UTC:20260320T200000
DTSTAMP:20260421T105111
CREATED:20251220T151309Z
LAST-MODIFIED:20251220T151309Z
UID:7744-1774029600-1774036800@www.blauweboom.nl
SUMMARY:Samen eten
DESCRIPTION:
URL:https://www.blauweboom.nl/event/samen-eten-10/
END:VEVENT
END:VCALENDAR